BEGIN:VCALENDAR
PRODID:NingEventWidget-v1
VERSION:2.0
METHOD:PUBLISH
BEGIN:VTIMEZONE
TZID:Pacific/Midway
X-LIC-LOCATION:Pacific/Midway
BEGIN:STANDARD
TZOFFSETFROM:-1100
TZOFFSETTO:-1100
TZNAME:SST
DTSTART:19700101T000000
END:STANDARD
END:VTIMEZONE
BEGIN:VEVENT
UID:5385115:Event:49454
DTSTAMP:20260420T163221Z
SUMMARY:Mesa Redonda: \"El Acceso Abierto a las Publicaciones Científ
 icas en Latinoamérica\"
DESCRIPTION:El Centro Universitario de Investigaciones Bibliotecológi
 cas de la UNAM, en el marco de su XXX Aniversario, del XXIX Coloquio d
 e Investigación Bibliotecológica y la Semana Internacional de Acceso
  Abierto, le invita a la\n \nMesa Redonda:\n\"El Acceso Abierto a las
  Publicaciones Científicas en Latinoamérica\"\n \nParticipan:\n \n
 “Portal de Revistas UNAM” Adriana Ortiz y Ariadna Gómez\nSecretar
 ía General / UNAM\n \n“SciELO México” Antonio Sánchez Pereyra\
 nDGB / UNAM\n \n“Portal de Portales Latindex” Octavio Alonso Gamb
 oa\nDGB / UNAM\n \n“Sistema de Información Científica Redalyc” 
 Eduardo Aguado López\nUAEMex\n \n“Publicaciones del CUIB en Acceso
  Abierto” Jaime Ríos Ortega\nCUIB / UNAM\n “Sistema de Informaci
 n Académica Humanindex”\nFiliberto Felipe Martínez Arellano\nCoor
 dinación de Humanidades / UNAM\n \nMartes 25 de octubre de 2011, 17 
 hrs. Sala de Videoconferencias del CUIB\nTorre II de Humanidades, Piso
  13, C. U.\nEntrada Libre. Cupo Limitado\n\nFor more information visit
  http://legacy.openaccessweek.org/events/mesa-redonda-el-acceso-abiert
 o-a-las-publicaciones-cient-ficas-en
DTSTART;TZID=Pacific/Midway:20111025T170000
DTEND;TZID=Pacific/Midway:20111025T190000
CATEGORIES:mesa, redonda
LOCATION:Sala de Videoconferencias del CUIB
WEBSITE:http://cuib.unam.mx
URL:http://cuib.unam.mx
CONTACT:
ORGANIZER;CN="Filiberto Felipe Martínez A.":http://legacy.openaccessw
 eek.org/profile/FELIPEMARTINEZ
ATTACH;FMTTYPE="image/jpeg":http://storage.ning.com/topology/rest/1.0/
 file/get/3057480424?profile=original
ATTENDEE;ROLE=REQ-PARTICIPANT;PARTSTAT=ACCEPTED;RSVP=TRUE;CN="Eleonor 
 Gastal Lago":http://legacy.openaccessweek.org/profile/EleonorGastalLag
 o
ATTENDEE;ROLE=REQ-PARTICIPANT;PARTSTAT=ACCEPTED;RSVP=TRUE;CN="Filibert
 o Felipe Martínez A.":http://legacy.openaccessweek.org/profile/FELIPE
 MARTINEZ
END:VEVENT
END:VCALENDAR
