BEGIN:VCALENDAR
PRODID:NingEventWidget-v1
VERSION:2.0
METHOD:PUBLISH
BEGIN:VTIMEZONE
TZID:Pacific/Midway
X-LIC-LOCATION:Pacific/Midway
BEGIN:STANDARD
TZOFFSETFROM:-1100
TZOFFSETTO:-1100
TZNAME:SST
DTSTART:19700101T000000
END:STANDARD
END:VTIMEZONE
BEGIN:VEVENT
UID:5385115:Event:50084
DTSTAMP:20260420T220217Z
SUMMARY:Mendeley's OA Week Webinar - 27th October 10:00 PDT
DESCRIPTION:\nMendeley is pleased to announce our 'Alternative Metri
 cs for Impact and the Future of Open Access' webinar for OA Week 2011
  on Thursday, October 27th at 10:00am PDT. \n \nDuring this webinar
 , we will discuss how opening up PLoS' content has made it more valua
 ble, and has enabled broader usage of their alternative metrics for im
 pact. We'll also discuss how Mendeley is an example of how Open Access
  policies can have economic impact at the national level.\n \nSpeaker
 s include: \n \nPeter Binfield, publisher of PLoS ONE, a leading edg
 e academic journal breaking new ground in Open Access. \n \nJason Ho
 yt, Research Director of Mendeley, a innovative service for researcher
 s to share and discover research.  \n \n \n\nFor more information 
 visit http://legacy.openaccessweek.org/events/mendeley-s-oa-week-webin
 ar-27th-october-10-00-pdt
DTSTART;TZID=Pacific/Midway:20111027T100000
DTEND;TZID=Pacific/Midway:20111027T110000
CATEGORIES:webinar
LOCATION:San Fransisco
WEBSITE:
URL:
CONTACT:
ORGANIZER:Mendeley
ATTACH;FMTTYPE="image/jpeg":http://storage.ning.com/topology/rest/1.0/
 file/get/3057480185?profile=original
ATTENDEE;ROLE=REQ-PARTICIPANT;PARTSTAT=ACCEPTED;RSVP=TRUE;CN="Alyson A
 nn Kelvin":http://legacy.openaccessweek.org/profile/AlysonAnnKelvin
ATTENDEE;ROLE=REQ-PARTICIPANT;PARTSTAT=ACCEPTED;RSVP=TRUE;CN="Graham  
 Steel":http://legacy.openaccessweek.org/profile/GrahamSteel
END:VEVENT
END:VCALENDAR
