BEGIN:VCALENDAR
PRODID:NingEventWidget-v1
VERSION:2.0
METHOD:PUBLISH
BEGIN:VTIMEZONE
TZID:Pacific/Midway
X-LIC-LOCATION:Pacific/Midway
BEGIN:STANDARD
TZOFFSETFROM:-1100
TZOFFSETTO:-1100
TZNAME:SST
DTSTART:19700101T000000
END:STANDARD
END:VTIMEZONE
BEGIN:VEVENT
UID:5385115:Event:70137
DTSTAMP:20260423T014725Z
SUMMARY:“Measuring the impact of Open Access”
DESCRIPTION:\n18h-18h15: Registration\n18h15-18h45: Indicators to Meas
 ure the Impact  of Open Access Journals and Reviews         
           Speaker: Bart Van Tiggelen\n19h45-19h15: Open Acce
 ss: Reclaiming our Scholarship                     
 Speaker: Curt Rice @curtrice / university of Tromso (Norway)\n19h15-1
 9h45: Policy Guidelines                    Speaker: 
 Dr. Indrajit Banerjee / UNESCO\n19h45-20h15: Example of a concrete exa
 mple                    Speaker: Nathalie Duchange
 / HAL inserm \n20h15: Reception\n\n\n\n\n18h-18h15: Registration\n1
 8h15-18h45: Indicators to Measure the Impact  of Open Access Journals
  and Reviews                    Speaker: Bart Van Ti
 ggelen\n19h45-19h15: Open Access: Reclaiming our Scholarship     
                Speaker: Curt Rice @curtrice / universi
 ty of Tromso (Norway)\n19h15-19h45: Policy Guidelines         
            Speaker: Dr. Indrajit Banerjee / UNESCO\n19h45-20
 h15: Example of a concrete example                  
  Speaker: Nathalie Duchange / HAL inserm \n20h15: Reception\n\n\n
 \n\nFor more information visit http://legacy.openaccessweek.org/events
 /measuring-the-impact-of-open-access
DTSTART;TZID=Pacific/Midway:20121025T180000
DTEND;TZID=Pacific/Midway:20121025T210000
CATEGORIES:conference
LOCATION:UNESCO
WEBSITE:http://www.openaccessweek-mysciencework.com
URL:http://www.openaccessweek-mysciencework.com
CONTACT:
ORGANIZER;CN=MyScienceWork:http://legacy.openaccessweek.org/profile/My
 ScienceWork
ATTACH;FMTTYPE="image/jpeg":
ATTENDEE;ROLE=REQ-PARTICIPANT;PARTSTAT=ACCEPTED;RSVP=TRUE;CN="Joseba M
 oreno":http://legacy.openaccessweek.org/profile/JosebaMoreno
ATTENDEE;ROLE=REQ-PARTICIPANT;PARTSTAT=ACCEPTED;RSVP=TRUE;CN=MyScience
 Work:http://legacy.openaccessweek.org/profile/MyScienceWork
END:VEVENT
END:VCALENDAR
