BEGIN:VCALENDAR
PRODID:NingEventWidget-v1
VERSION:2.0
METHOD:PUBLISH
BEGIN:VTIMEZONE
TZID:Pacific/Midway
X-LIC-LOCATION:Pacific/Midway
BEGIN:STANDARD
TZOFFSETFROM:-1100
TZOFFSETTO:-1100
TZNAME:SST
DTSTART:19700101T000000
END:STANDARD
END:VTIMEZONE
BEGIN:VEVENT
UID:5385115:Event:3187
DTSTAMP:20260424T022913Z
SUMMARY:Maximize the impact of your research!
DESCRIPTION:A lecture meeting celebrating the 3rd anniversary of Otaru
  University of Commerce Repository.\n\nFor more information visit http
 ://legacy.openaccessweek.org/events/maximize-the-impact-of-your
DTSTART;TZID=Pacific/Midway:20101020T150000
DTEND;TZID=Pacific/Midway:20101020T170000
CATEGORIES:lecture_meeting
LOCATION:Otaru University of Commerce, Japan
WEBSITE:http://maps.google.com/maps?f=q&source=s_q&hl=ja&geocode=&q=ot
 aru+university&sll=51.51333,-0.088947&sspn=0.034025,0.050297&ie=UTF8&h
 q=otaru+university&hnear=&radius=15000&ll=43.200045,140.978107&spn=0.0
 76583,0.097504&z=13&iwloc=A&cid=359194644097441514
URL:http://maps.google.com/maps?f=q&source=s_q&hl=ja&geocode=&q=otaru+
 university&sll=51.51333,-0.088947&sspn=0.034025,0.050297&ie=UTF8&hq=ot
 aru+university&hnear=&radius=15000&ll=43.200045,140.978107&spn=0.07658
 3,0.097504&z=13&iwloc=A&cid=359194644097441514
CONTACT:
ORGANIZER:Otaru University of Commerce Library
ATTACH;FMTTYPE="image/jpeg":http://storage.ning.com/topology/rest/1.0/
 file/get/3057468246?profile=original
ATTENDEE;ROLE=REQ-PARTICIPANT;PARTSTAT=ACCEPTED;RSVP=TRUE;CN="SUGITA S
 higeki":http://legacy.openaccessweek.org/profile/SUGITAShigeki
END:VEVENT
END:VCALENDAR
