BEGIN:VCALENDAR
PRODID:NingEventWidget-v1
VERSION:2.0
METHOD:PUBLISH
BEGIN:VTIMEZONE
TZID:Pacific/Midway
X-LIC-LOCATION:Pacific/Midway
BEGIN:STANDARD
TZOFFSETFROM:-1100
TZOFFSETTO:-1100
TZNAME:SST
DTSTART:19700101T000000
END:STANDARD
END:VTIMEZONE
BEGIN:VEVENT
UID:5385115:Event:173883
DTSTAMP:20260421T045847Z
SUMMARY:Marketing Campaigns for Promoting Open Access in Academic Libr
 aries and Museums
DESCRIPTION:This workshop is organised within the series of events cel
 ebrating the International Open Access Week in 2018 brought to you by 
 UCL Qatar, QNL and the Qatar University Library (Open Access in Qatar:
  Practical workshops  to plan successful marketing campaigns and enhan
 ce visibility). \nConvenors: Ryan Scicluna (University of Malta), Ais
 ha al Abdulla (Qatar University Library), Karina Santana (Texas A&M Qa
 tar Library), Joselia Neves (HBKU).\nVenue: Qatar University Library,
  Exhibition Hall (134), ground floor lobby, QU New Library Building (B
 13) The event is free but registration is mandatory and spaces are lim
 ited.\n To register please follow this link: https://goo.gl/forms/jpoD
 nh7EiuMMiSU82\n\nFor more information visit http://legacy.openaccesswe
 ek.org/events/marketing-campaigns-for-promoting-open-access-in-academi
 c
DTSTART;TZID=Pacific/Midway:20181022T083000
DTEND;TZID=Pacific/Midway:20181022T123000
CATEGORIES:practical, workshop
LOCATION:Qatar
WEBSITE:https://goo.gl/maps/f6GbRMGU8sz
URL:https://goo.gl/maps/f6GbRMGU8sz
CONTACT:
ORGANIZER:UCL Qatar, Qatar University Library
ATTACH;FMTTYPE="image/jpeg":http://storage.ning.com/topology/rest/1.0/
 file/get/3057615442?profile=original
ATTENDEE;ROLE=REQ-PARTICIPANT;PARTSTAT=ACCEPTED;RSVP=TRUE;CN="Milena D
 obreva":http://legacy.openaccessweek.org/profile/MilenaDobreva
END:VEVENT
END:VCALENDAR
