BEGIN:VCALENDAR
PRODID:NingEventWidget-v1
VERSION:2.0
METHOD:PUBLISH
BEGIN:VTIMEZONE
TZID:Pacific/Midway
X-LIC-LOCATION:Pacific/Midway
BEGIN:STANDARD
TZOFFSETFROM:-1100
TZOFFSETTO:-1100
TZNAME:SST
DTSTART:19700101T000000
END:STANDARD
END:VTIMEZONE
BEGIN:VEVENT
UID:5385115:Event:183713
DTSTAMP:20260423T044204Z
SUMMARY:Más allá de lo abierto: innovación, sostenibilidad y equida
 d en la comunicación académica
DESCRIPTION:The Library of the University of Navarra (Spain) organizes
  the lecture \"Beyond openess: innovation, sustainbility and equity i
 n academic communication\", given by Eloy Rodrigues (University do Min
 ho) next October 18th, celebrating Open Access Week.\n\nFor more infor
 mation visit http://legacy.openaccessweek.org/events/m-s-all-de-lo-abi
 erto-innovaci-n-sostenibilidad-y-equidad-en-la
DTSTART;TZID=Pacific/Midway:20191018T213000
DTEND;TZID=Pacific/Midway:20191018T223000
CATEGORIES:conference
LOCATION:Spain
WEBSITE:https://www.unav.es/biblioteca
URL:https://www.unav.es/biblioteca
CONTACT:+34 948425600 ext. 802065
ORGANIZER:University of Navarra. Library
ATTACH;FMTTYPE="image/jpeg":
ATTENDEE;ROLE=REQ-PARTICIPANT;PARTSTAT=ACCEPTED;RSVP=TRUE;CN="Natalia 
 Arroyo":http://legacy.openaccessweek.org/profile/NataliaArroyo
END:VEVENT
END:VCALENDAR
