BEGIN:VCALENDAR
PRODID:NingEventWidget-v1
VERSION:2.0
METHOD:PUBLISH
BEGIN:VTIMEZONE
TZID:Pacific/Midway
X-LIC-LOCATION:Pacific/Midway
BEGIN:STANDARD
TZOFFSETFROM:-1100
TZOFFSETTO:-1100
TZNAME:SST
DTSTART:19700101T000000
END:STANDARD
END:VTIMEZONE
BEGIN:VEVENT
UID:5385115:Event:76132
DTSTAMP:20260424T035745Z
SUMMARY:Lunch Seminar on Open Access
DESCRIPTION:Every year around the world, universities, international o
 rganisations or independent researchers participate in the Open Access
  week. This event has been created to generate publicity and awareness
  to the benefits of sharing the knowledge created by academia.\nAs sig
 natory of the Berlin declaration on open access and in line with its m
 ission UNESCO-IHE aims to disseminate and share as much as possible of
  its knowledge and supports the Open Access as a new norm of scholarsh
 ip and research. Several initiatives, such as joining the Open Coursew
 are Consortium are underway.\nAt this lunch seminar Patricia Darvis of
  UNESCO-IHE will present several open access platforms, the open cours
 e ware consortium and the intellectual property aspects of publishing 
 open access.\nFor Whom?\n\nStudents : will gain factual information on
  open access peer-reviewed resources.\nResearchers: intellectual prope
 rty and copyrights under the Creative Commons licence.\n\n\nAbout Open
  Access Week\nOpen Access Week, a global event now entering its sixth 
 year, is an opportunity for the academic and research community to con
 tinue to learn about the potential benefits of Open Access, to share w
 hat they’ve learned with colleagues, and to help inspire wider parti
 cipation in helping to make Open Access a new norm in scholarship and 
 research.\n\n\nFor more information visit http://legacy.openaccessweek
 .org/events/lunch-seminar-on-open-access
DTSTART;TZID=Pacific/Midway:20121022T124500
DTEND;TZID=Pacific/Midway:20121022T134500
CATEGORIES:seminar
LOCATION:UNESCO-IHE Institute for Water Education, Delft, the Netherla
 nds
WEBSITE:
URL:
CONTACT:
ORGANIZER;CN="LP Darvis":http://legacy.openaccessweek.org/profile/PDar
 vis
ATTACH;FMTTYPE="image/jpeg":
ATTENDEE;ROLE=REQ-PARTICIPANT;PARTSTAT=ACCEPTED;RSVP=TRUE;CN="LP Darvi
 s":http://legacy.openaccessweek.org/profile/PDarvis
END:VEVENT
END:VCALENDAR
