BEGIN:VCALENDAR
PRODID:NingEventWidget-v1
VERSION:2.0
METHOD:PUBLISH
BEGIN:VTIMEZONE
TZID:Pacific/Midway
X-LIC-LOCATION:Pacific/Midway
BEGIN:STANDARD
TZOFFSETFROM:-1100
TZOFFSETTO:-1100
TZNAME:SST
DTSTART:19700101T000000
END:STANDARD
END:VTIMEZONE
BEGIN:VEVENT
UID:5385115:Event:52693
DTSTAMP:20260423T001124Z
SUMMARY:Los Proyectos Open Access de LIBER
DESCRIPTION:SEMANA DEL ACCESO ABIERTO 2011 - PERÚ\nVideoconferencia a
  cargo de: Wouter Schallier. Ligue des Bibliothèques Européennes de
  Recherche – Association of European Research Libraries – LIBER\n\
 nTransmisión en directo por webcasting desde:\nhttp://envivo.pucp.edu
 .pe/OAW2011/\n\nMayor información en:\n\nOpen Access Perú\nE-Mail: i
 nfo@openaccessperu.org\nSite: http://www.openaccessperu.org/\n\nFor m
 ore information visit http://legacy.openaccessweek.org/events/los-proy
 ectos-open-access-de-liber
DTSTART;TZID=Pacific/Midway:20111025T103000
DTEND;TZID=Pacific/Midway:20111025T113000
CATEGORIES:videoconferencia
LOCATION:Pontificia Universidad Católica del Perú
WEBSITE:http://www.openaccessperu.org/
URL:http://www.openaccessperu.org/
CONTACT:(51-1) 980589765
ORGANIZER:Open Access Perú
ATTACH;FMTTYPE="image/jpeg":http://storage.ning.com/topology/rest/1.0/
 file/get/2945979459?profile=original
ATTENDEE;ROLE=REQ-PARTICIPANT;PARTSTAT=ACCEPTED;RSVP=TRUE;CN="Julio Sa
 ntillán Aldana":http://legacy.openaccessweek.org/profile/JulioSantill
 anAldana
END:VEVENT
END:VCALENDAR
