BEGIN:VCALENDAR
PRODID:NingEventWidget-v1
VERSION:2.0
METHOD:PUBLISH
BEGIN:VTIMEZONE
TZID:Pacific/Midway
X-LIC-LOCATION:Pacific/Midway
BEGIN:STANDARD
TZOFFSETFROM:-1100
TZOFFSETTO:-1100
TZNAME:SST
DTSTART:19700101T000000
END:STANDARD
END:VTIMEZONE
BEGIN:VEVENT
UID:5385115:Event:163252
DTSTAMP:20260424T131921Z
SUMMARY:Los datos abiertos y su relación con la gestión de documento
 s y el gobierno abierto
DESCRIPTION:Los datos abiertos y su relación con la gestión de docum
 entos y el gobierno abierto\nCarlos Zapata Universidad de La Salle (Co
 lombia) -- Pontificia Universidad Católica del Perú – PUCP Auditor
 io de Humanidades / 9:30 – 10:15 am (Hora de Lima) Av. Universitaria
  1801, San Miguel LIMA - PERÚ\n\n\nFor more information visit http://
 legacy.openaccessweek.org/events/los-datos-abiertos-y-su-relaci-n-con-
 la-gesti-n-de-documentos-y
DTSTART;TZID=Pacific/Midway:20171024T093000
DTEND;TZID=Pacific/Midway:20171024T101500
CATEGORIES:videoconferencia
LOCATION:Peru
WEBSITE:http://www.openaccessperu.org/semana-acceso-abierto/semana-del
 -acceso-abierto-programa/
URL:http://www.openaccessperu.org/semana-acceso-abierto/semana-del-acc
 eso-abierto-programa/
CONTACT:
ORGANIZER:Open Access Peru
ATTACH;FMTTYPE="image/jpeg":http://storage.ning.com/topology/rest/1.0/
 file/get/3057600545?profile=original
ATTENDEE;ROLE=REQ-PARTICIPANT;PARTSTAT=ACCEPTED;RSVP=TRUE;CN="EcoSylla
 ba Latinoamérica":http://legacy.openaccessweek.org/profile/ecosyllaba
ATTENDEE;ROLE=REQ-PARTICIPANT;PARTSTAT=ACCEPTED;RSVP=TRUE;CN="Julio Sa
 ntillán Aldana":http://legacy.openaccessweek.org/profile/JulioSantill
 anAldana
END:VEVENT
END:VCALENDAR
