BEGIN:VCALENDAR
PRODID:NingEventWidget-v1
VERSION:2.0
METHOD:PUBLISH
BEGIN:VTIMEZONE
TZID:Pacific/Midway
X-LIC-LOCATION:Pacific/Midway
BEGIN:STANDARD
TZOFFSETFROM:-1100
TZOFFSETTO:-1100
TZNAME:SST
DTSTART:19700101T000000
END:STANDARD
END:VTIMEZONE
BEGIN:VEVENT
UID:5385115:Event:185322
DTSTAMP:20260423T080550Z
SUMMARY:Look Again! Open Textbook Workshop &amp; Textbook Review
DESCRIPTION:Open Textbooks are more affordable for students and more f
 lexible for faculty. In the three years of our Open Textbook Network m
 embership ~100 textbooks per year have been added to the Open Textbook
  Library and are available for review. In these workshops, you will le
 arn what open textbooks are and how they can help alleviate the burden
  of textbook costs for students, while providing faculty with content 
 that can be highly customized for your courses. Open textbooks are ful
 l, real textbooks, used by many faculty across the country, and licens
 ed to be freely used, edited, and distributed. Following the workshop,
  you will write a brief review of an open textbook from the Open Textb
 ook Library, to be published on the OTL website: https://open.umn.edu/
 opentextbooks. Faculty who attend the workshop and complete the review
  are eligible for a one-time $200 stipend. Registration is required by
  October 16th, 2019.\n\nFor more information visit http://legacy.opena
 ccessweek.org/events/look-again-open-textbook-workshop-amp-textbook-re
 view-1
DTSTART;TZID=Pacific/Midway:20191023T100000
DTEND;TZID=Pacific/Midway:20191023T120000
CATEGORIES:workshop
LOCATION:United States of America
WEBSITE:http://library.ric.edu/open
URL:http://library.ric.edu/open
CONTACT:
ORGANIZER;CN="Dragan Gill":http://legacy.openaccessweek.org/profile/Dr
 aganGill
ATTACH;FMTTYPE="image/jpeg":
ATTENDEE;ROLE=REQ-PARTICIPANT;PARTSTAT=ACCEPTED;RSVP=TRUE;CN="Dragan G
 ill":http://legacy.openaccessweek.org/profile/DraganGill
END:VEVENT
END:VCALENDAR
