BEGIN:VCALENDAR
PRODID:NingEventWidget-v1
VERSION:2.0
METHOD:PUBLISH
BEGIN:VTIMEZONE
TZID:Pacific/Midway
X-LIC-LOCATION:Pacific/Midway
BEGIN:STANDARD
TZOFFSETFROM:-1100
TZOFFSETTO:-1100
TZNAME:SST
DTSTART:19700101T000000
END:STANDARD
END:VTIMEZONE
BEGIN:VEVENT
UID:5385115:Event:148959
DTSTAMP:20260421T031313Z
SUMMARY:Livestream: The Expert has Left the Building
DESCRIPTION:As part of International Open Access Week, Brunel invites 
 all academics and students to a conference which brings together indu
 stry professionals and Brunel researchers to talk about their commitme
 nt to making openness in research a reality.\nTune in to our livestre
 am to catch a talk by Dr Cameron Neylon from Curtin University\nAbstra
 ct: The theme of Open Access Week for 2016 is \"Open in Action\". A me
 ssage to move beyond simply providing free access to traditional resea
 rch outputs and to actively communicate our research to the people who
  might benefit. Yet for many academics it feels as though deep knowled
 ge of a subject can increasingly be a disadvantage in making the case 
 for things that matter. Michael Gove tells us the public is \"sick of 
 experts\" and politics from Australia to the US seems increasingly dri
 ven by shrill voices willfully ignoring high quality information that 
 could help us to make difficult decisions.\nI will argue that to addre
 ss this we need to both double down on the processes and institutions 
 that makes scholarship valuable, but also to take that out into the wo
 rld, and bring the wider world into them. Research is a social process
  and for the first time in history we have the technical ability to re
 alise some of the core goals of earlier scholars. The question is no l
 onger how to reach new audiences for our existing work, but to include
  the much broader forms of expertise that we can now access, in the ve
 ry processes of research itself.\n\nFor more information visit http://
 legacy.openaccessweek.org/events/livestream-the-expert-has-left-the-bu
 ilding
DTSTART;TZID=Pacific/Midway:20161027T100000
DTEND;TZID=Pacific/Midway:20161027T223000
CATEGORIES:talk, online, chat, presentation
LOCATION:United Kingdom
WEBSITE:https://livestream.com/Brunel/andbeyond
URL:https://livestream.com/Brunel/andbeyond
CONTACT:
ORGANIZER;CN="Brunel University London":http://legacy.openaccessweek.o
 rg/profile/BrunelUniversityLondon
ATTACH;FMTTYPE="image/jpeg":http://storage.ning.com/topology/rest/1.0/
 file/get/3057580587?profile=original
ATTENDEE;ROLE=REQ-PARTICIPANT;PARTSTAT=ACCEPTED;RSVP=TRUE;CN="Brunel U
 niversity London":http://legacy.openaccessweek.org/profile/BrunelUnive
 rsityLondon
END:VEVENT
END:VCALENDAR
