BEGIN:VCALENDAR
PRODID:NingEventWidget-v1
VERSION:2.0
METHOD:PUBLISH
BEGIN:VTIMEZONE
TZID:Pacific/Midway
X-LIC-LOCATION:Pacific/Midway
BEGIN:STANDARD
TZOFFSETFROM:-1100
TZOFFSETTO:-1100
TZNAME:SST
DTSTART:19700101T000000
END:STANDARD
END:VTIMEZONE
BEGIN:VEVENT
UID:5385115:Event:10370
DTSTAMP:20260423T185006Z
SUMMARY:Linux Day 2010
DESCRIPTION:Events/2010/Linuxday/Conference\n14:55 - OpenAccess - Anto
 nella De Robbio\nhttp://www.fsugpadova.org/Events/2010/Linuxday/Confer
 ence\n\nFor more information visit http://legacy.openaccessweek.org/ev
 ents/linux-day-2010
DTSTART;TZID=Pacific/Midway:20101023T000000
DTEND;TZID=Pacific/Midway:20101023T235900
CATEGORIES:annual, manifestation, on, free, software
LOCATION:Padova - Italy
WEBSITE:
URL:
CONTACT:
ORGANIZER:Andrea Brugiolo
ATTACH;FMTTYPE="image/jpeg":
ATTENDEE;ROLE=REQ-PARTICIPANT;PARTSTAT=ACCEPTED;RSVP=TRUE;CN="Antonell
 a De Robbio":http://legacy.openaccessweek.org/profile/AntonellaDeRobbi
 o
END:VEVENT
END:VCALENDAR
