BEGIN:VCALENDAR
PRODID:NingEventWidget-v1
VERSION:2.0
METHOD:PUBLISH
BEGIN:VTIMEZONE
TZID:Pacific/Midway
X-LIC-LOCATION:Pacific/Midway
BEGIN:STANDARD
TZOFFSETFROM:-1100
TZOFFSETTO:-1100
TZNAME:SST
DTSTART:19700101T000000
END:STANDARD
END:VTIMEZONE
BEGIN:VEVENT
UID:5385115:Event:50960
DTSTAMP:20260419T025257Z
SUMMARY:Library Science Cafe \"New wind of Asahikawa med. univ.\" jam 
 sessions
DESCRIPTION:Three university professors talk straightforward and hot a
 bout their research and new efforts.\n\nFor more information visit htt
 p://legacy.openaccessweek.org/events/library-science-cafe-new-wind-of-
 asahikawa-med-univ-jam-sessions
DTSTART;TZID=Pacific/Midway:20111026T180000
DTEND;TZID=Pacific/Midway:20111026T190000
CATEGORIES:"science cafe"
LOCATION:Asahikawa Medical University Library
WEBSITE:http://amcor.asahikawa-med.ac.jp/
URL:http://amcor.asahikawa-med.ac.jp/
CONTACT:
ORGANIZER;CN="ITOBAYASHI Mayuko":http://legacy.openaccessweek.org/prof
 ile/ITOBAYASHIMayuko
ATTACH;FMTTYPE="image/jpeg":http://storage.ning.com/topology/rest/1.0/
 file/get/3057483748?profile=original
ATTENDEE;ROLE=REQ-PARTICIPANT;PARTSTAT=ACCEPTED;RSVP=TRUE;CN="ITOBAYAS
 HI Mayuko":http://legacy.openaccessweek.org/profile/ITOBAYASHIMayuko
END:VEVENT
END:VCALENDAR
