BEGIN:VCALENDAR
PRODID:NingEventWidget-v1
VERSION:2.0
METHOD:PUBLISH
BEGIN:VTIMEZONE
TZID:Pacific/Midway
X-LIC-LOCATION:Pacific/Midway
BEGIN:STANDARD
TZOFFSETFROM:-1100
TZOFFSETTO:-1100
TZNAME:SST
DTSTART:19700101T000000
END:STANDARD
END:VTIMEZONE
BEGIN:VEVENT
UID:5385115:Event:209856
DTSTAMP:20260421T045437Z
SUMMARY:Let's Talk About It... Demystifying Open Access\"
DESCRIPTION:Remember to join us today from 4:00 to 5:30pm for our acti
 vity titled \"Let’s Talk About It... Demystifying Open Access\". Thi
 s activity acknowledges International Open Access Week 2020, which run
 s from October 19-25. We hope to see you!\n\n\nFor more information vi
 sit http://legacy.openaccessweek.org/events/let-s-talk-about-it-demyst
 ifying-open-access
DTSTART;TZID=Pacific/Midway:20201021T160000
DTEND;TZID=Pacific/Midway:20201021T173000
CATEGORIES:web, talk
LOCATION:Puerto Rico
WEBSITE:https://www.facebook.com/GRICUPRm/photos/a.1220317081353469/35
 95115927206894
URL:https://www.facebook.com/GRICUPRm/photos/a.1220317081353469/359511
 5927206894
CONTACT:
ORGANIZER:Graduate Research and Innovation Center - UPRM
ATTACH;FMTTYPE="image/jpeg":
ATTENDEE;ROLE=REQ-PARTICIPANT;PARTSTAT=ACCEPTED;RSVP=TRUE;CN="Jose Jav
 ier Morales-Benitez":http://legacy.openaccessweek.org/profile/JoseJavi
 erMoralesBenitez
END:VEVENT
END:VCALENDAR
