BEGIN:VCALENDAR
PRODID:NingEventWidget-v1
VERSION:2.0
METHOD:PUBLISH
BEGIN:VTIMEZONE
TZID:Pacific/Midway
X-LIC-LOCATION:Pacific/Midway
BEGIN:STANDARD
TZOFFSETFROM:-1100
TZOFFSETTO:-1100
TZNAME:SST
DTSTART:19700101T000000
END:STANDARD
END:VTIMEZONE
BEGIN:VEVENT
UID:5385115:Event:136157
DTSTAMP:20260423T234252Z
SUMMARY:Les donnÃ©es de la recherche : oÃ¹ en est-on aujourdâ€™hui ?
DESCRIPTION:La production, la diffusion et la valorisation des rÃ©sult
 ats de la recherche ont fondamentalement Ã©voluÃ©, impliquant dÃ©sorma
 is les donnÃ©es, qui jusque-lÃ  constituaient des ressources moins vis
 ibles de la connaissance scientifique. Le mouvement du Libre-accÃ¨s a 
 largement contribuÃ© Ã  amplifier lâ€™accÃ¨s aux jeux de donnÃ©es prod
 uits par les communautÃ©s de chercheurs. PrÃ©sentes dans le quotidien 
 du travail du chercheur et des professionnels de lâ€™information, les 
 donnÃ©es posent de nombreuses questions, Ã  la fois techniques, pratiq
 ues, politiques, juridiques, voire Ã©pistÃ©mologiques en lien avec lâ€
 ™Ã©volution de la science.\n\nFor more information visit http://legacy
 .openaccessweek.org/events/les-donn-es-de-la-recherche-o-en-est-on-auj
 ourd-hui
DTSTART;TZID=Pacific/Midway:20151016T093000
DTEND;TZID=Pacific/Midway:20151016T160000
CATEGORIES:table, ronde
LOCATION:France
WEBSITE:http://www.oaweekfrance.org/programme/les-donnees-de-la-recher
 che-ou-en-est-on-aujourdhui/
URL:http://www.oaweekfrance.org/programme/les-donnees-de-la-recherche-
 ou-en-est-on-aujourdhui/
CONTACT:
ORGANIZER:BibliothÃ¨ques universitaires Lyon 1, Lyon 2, Lyon 3, Didero
 t, INSA Lyon, Central Lyon, Maison de l'Orient et de la MÃ©diterranÃ©e
 , URFIST Lyon et UniversitÃ© de Lyon
ATTACH;FMTTYPE="image/jpeg":http://storage.ning.com/topology/rest/1.0/
 file/get/3057566204?profile=original
ATTENDEE;ROLE=REQ-PARTICIPANT;PARTSTAT=ACCEPTED;RSVP=TRUE;CN=Boudia:ht
 tp://legacy.openaccessweek.org/profile/Boudia
END:VEVENT
END:VCALENDAR
