BEGIN:VCALENDAR
PRODID:NingEventWidget-v1
VERSION:2.0
METHOD:PUBLISH
BEGIN:VTIMEZONE
TZID:Pacific/Midway
X-LIC-LOCATION:Pacific/Midway
BEGIN:STANDARD
TZOFFSETFROM:-1100
TZOFFSETTO:-1100
TZNAME:SST
DTSTART:19700101T000000
END:STANDARD
END:VTIMEZONE
BEGIN:VEVENT
UID:5385115:Event:10415
DTSTAMP:20260423T201352Z
SUMMARY:Le kidnapping de la science
DESCRIPTION:Les Années Lumière -- Radio Canada\n\n[This programme is
  in French: Click HERE and listen to part 2 (not part 1). Can be heard
  any time during the week following the broadcast on Sunday October 24
  2010, the last day of OA Week.]\n\nLa Semaine du libre accès à l'in
 formation scientifique offre l'occasion de remettre en question la mai
 nmise des éditeurs privés sur les résultats de recherches scientifi
 ques, des recherches qui sont souvent financées par des fonds publics
 .\nLA QUEUE QUI AGITE LE CHIEN\nIl y a deux moyens de fournir l'accès
  libre (AL) aux articles scientifiques : (1) Le chercheur publie dans 
 une revue AL à laquelle on doit payer pour publier (mais ça devient 
 coûteux pour l'université du chercheur, qui paie encore tous ses abo
 nnements aux revues non-AL, qui font encore la vaste majorité des rev
 ues) . Ça c'est la voie dorée vers l'AL. (2) Ou le chercheur publie 
 dans une revue non-AL et fournit l'AL à l'article en déposant le dou
 ble de la version référée dans son archive universitaire AL lors de
  son acceptation par la revue. Ça c'est la voie verte vers l'AL. Les 
 politiques universitaires de dépôt obligatoire concernent uniquement
  l'AL vert et non l'AL d'or.\n\nEn sollicitant l'avis sur l'AL de M. M
 artin Frank, directeur des éditions American Physiological Society (c
 omme je l'avais recommandé à Gaëlle, soit dit en passant ! ) vous a
 vez l'avis du plus farouche critique de l'AL. L'émission s'est termin
 ée sur son observation que pour avoir l'AL if faudra d'abord trouver 
 une autre façon de payer les frais de l'édition.\n\nMais ça confond
  totalement l'AL vert avec l'AL d'or. On peut avoir l'AL vert immédia
 tement avec les politiques universitaires de dépôt dans les archives
  universitaires AL. Si jamais les utilisateurs se contenteront avec un
 iquement les versions AL, et les universités annuleront leurs abonnem
 ents aux revues, alors il va falloir trouver une autre façon de payer
  les frais de l'édition. Et les fonds seront là pour payer -- grâce
  aux aubaines annuelles issues de l'annulation des abonnements -- selo
 n le modèle de l'AL d'or.\n\nMais il serait absurde de la part les un
 iversités de s'asseoir attendre à ce que le modèle soit adopté spo
 ntanément par les éditeurs, et qu'entre temps la recherche et les ch
 ercheurs continuent à se priver de l'impact et du progrès scientifiq
 ue qu'offre l'AL. Ça serait, comme j'avais signalé, de permettre à 
 ce que le chien (la recherche) continue d'être agité par sa queue (l
 'édition) plutôt que l'inverse.\n\n\nFor more information visit http
 ://legacy.openaccessweek.org/events/le-kidnapping-de-la-science
DTSTART;TZID=Pacific/Midway:20101024T130000
DTEND;TZID=Pacific/Midway:20101024T190000
CATEGORIES:"radio interview about oa"
LOCATION:Montréal Canada
WEBSITE:http://www.radio-canada.ca/emissions/les_annees_lumiere/2010-2
 011/#
URL:http://www.radio-canada.ca/emissions/les_annees_lumiere/2010-2011/
 #
CONTACT:
ORGANIZER;CN="Stevan Harnad":http://legacy.openaccessweek.org/profile/
 StevanHarnad
ATTACH;FMTTYPE="image/jpeg":http://storage.ning.com/topology/rest/1.0/
 file/get/3057472674?profile=original
ATTENDEE;ROLE=REQ-PARTICIPANT;PARTSTAT=ACCEPTED;RSVP=TRUE;CN="Stevan H
 arnad":http://legacy.openaccessweek.org/profile/StevanHarnad
END:VEVENT
END:VCALENDAR
