BEGIN:VCALENDAR
PRODID:NingEventWidget-v1
VERSION:2.0
METHOD:PUBLISH
BEGIN:VTIMEZONE
TZID:Pacific/Midway
X-LIC-LOCATION:Pacific/Midway
BEGIN:STANDARD
TZOFFSETFROM:-1100
TZOFFSETTO:-1100
TZNAME:SST
DTSTART:19700101T000000
END:STANDARD
END:VTIMEZONE
BEGIN:VEVENT
UID:5385115:Event:75322
DTSTAMP:20260424T024848Z
SUMMARY:Launching of Spanish Website of DOAJ
DESCRIPTION:Redalyc collaborate with DOAJ team to translate the DOAJ w
 ebsite to Spanish.\n\nFor more information visit http://legacy.openacc
 essweek.org/events/launching-of-spanish-website-of-doaj
DTSTART;TZID=Pacific/Midway:20121022T000000
DTEND;TZID=Pacific/Midway:20121022T235900
CATEGORIES:website, launching
LOCATION:Mexico
WEBSITE:
URL:
CONTACT:
ORGANIZER;CN="Arianna Becerril García":http://legacy.openaccessweek.o
 rg/profile/AriannaBecerrilGarcia
ATTACH;FMTTYPE="image/jpeg":http://storage.ning.com/topology/rest/1.0/
 file/get/3057503542?profile=original
ATTENDEE;ROLE=REQ-PARTICIPANT;PARTSTAT=ACCEPTED;RSVP=TRUE;CN="Vladimir
  Burgos":http://legacy.openaccessweek.org/profile/VladimirBurgos
ATTENDEE;ROLE=REQ-PARTICIPANT;PARTSTAT=ACCEPTED;RSVP=TRUE;CN="Arianna 
 Becerril García":http://legacy.openaccessweek.org/profile/AriannaBece
 rrilGarcia
END:VEVENT
END:VCALENDAR
