BEGIN:VCALENDAR
PRODID:NingEventWidget-v1
VERSION:2.0
METHOD:PUBLISH
BEGIN:VTIMEZONE
TZID:Pacific/Midway
X-LIC-LOCATION:Pacific/Midway
BEGIN:STANDARD
TZOFFSETFROM:-1100
TZOFFSETTO:-1100
TZNAME:SST
DTSTART:19700101T000000
END:STANDARD
END:VTIMEZONE
BEGIN:VEVENT
UID:5385115:Event:135381
DTSTAMP:20260420T144939Z
SUMMARY:Launch party of the MOOC \"Digital technologies and research i
 n health and life sciences\"
DESCRIPTION:We are pleased to announce the upcoming release next Octob
 er 19 of the MOOCSciNum \"Digital technologies and research in health 
 and life sciences. New practices and challenges\". france-universite-n
 umerique-mooc.fr/courses/VirchowVillerme/06005/session01/about (in fr
 ench) \nSince January 2015, more than 20 interviews and screencasts h
 ave been recorded in France and Quebec, thanks to the participation of
  speakers from various research institutions in France (USPC, Paris De
 scartes, Institut Pasteur, Université Pierre Mendes-France, Ecole des
  Mines, Paris School of Economics, etc.) and internationally (Laval Un
 iversity, UCL, Imperial College, KTH Royal Institute of Technology, et
 c. .). The MOOC brought together experts in the fields of public healt
 h, but also cognitive science, law and social sciences. This MOOC will
  present the major steps of a research study and the new practices and
  issues related to digital technologies. It is aimed primarily at an a
 udience of PhD students, young researchers and professionals in the fi
 eld of health and life sciences.\nA launch party has been organized fo
 r October 19 at the CRI (10, rue Charles V, Paris). This event will pr
 esent the MOOC and especially the content linked to the question of op
 en access to scientific publications and data (legal framework).\nProg
 ramm\n6:30pm Welcoming guests\n6:45pm Overview and presentation of the
  MOOC SciNUM\n7:15pm The stakes of shared information and open scienti
 fic data: selected clips from the MOOC\n7:45pm MOOC SciNum and the res
 earch project DISCOVER\n8pm Buffet until 9pm\nPlease register by follo
 wing the link below: http://virchowvillerme.eu/fr/event/open-access-we
 ek-soiree-de-lancement-du-moocscinum-numerique-et-recherche-en-sante-e
 t-sciences-du-vivant/\n\nFor more information visit http://legacy.open
 accessweek.org/events/launch-party-of-the-mooc-digital-technologies-an
 d-research-in
DTSTART;TZID=Pacific/Midway:20151019T183000
DTEND;TZID=Pacific/Midway:20151019T210000
CATEGORIES:launch, party
LOCATION:France
WEBSITE:http://virchowvillerme.eu/fr/event/open-access-week-soiree-de-
 lancement-du-moocscinum-numerique-et-recherche-en-sante-et-sciences-du
 -vivant/
URL:http://virchowvillerme.eu/fr/event/open-access-week-soiree-de-lanc
 ement-du-moocscinum-numerique-et-recherche-en-sante-et-sciences-du-viv
 ant/
CONTACT:
ORGANIZER:Centre Virchow-Villermé de Santé Publique Paris-Berlin
ATTACH;FMTTYPE="image/jpeg":http://storage.ning.com/topology/rest/1.0/
 file/get/3057563661?profile=original
ATTENDEE;ROLE=REQ-PARTICIPANT;PARTSTAT=ACCEPTED;RSVP=TRUE;CN="Corinne 
 Kowalski":http://legacy.openaccessweek.org/profile/CorinneKowalski
END:VEVENT
END:VCALENDAR
