BEGIN:VCALENDAR
PRODID:NingEventWidget-v1
VERSION:2.0
METHOD:PUBLISH
BEGIN:VTIMEZONE
TZID:Pacific/Midway
X-LIC-LOCATION:Pacific/Midway
BEGIN:STANDARD
TZOFFSETFROM:-1100
TZOFFSETTO:-1100
TZNAME:SST
DTSTART:19700101T000000
END:STANDARD
END:VTIMEZONE
BEGIN:VEVENT
UID:5385115:Event:5914
DTSTAMP:20260423T231312Z
SUMMARY:Launch of RIAN: Open Access To Irish Research
DESCRIPTION:RIAN is Ireland's Open Access Research Portal. It harvests
  content from Open Access institutional repositories in all seven Iris
 h universities and from Dublin Institute of technology. It is the outc
 ome of a project which was managed by the IUA Librarians' Group, suppo
 rted by the IUA, and funded through the Ireland's Higher Education Aut
 hority (HEA) Strategic Innovation Fund.\n\nOpening Address: Mary Cough
 lan T.D., Minister for Education and Skills\n\nKeynote speech on the r
 ole and importance of Open Access to research.\n\nDetails: Irish Unive
 rsities Association\n\nFor more information visit http://legacy.openac
 cessweek.org/events/launch-of-rian-open-access-to
DTSTART;TZID=Pacific/Midway:20101020T133000
DTEND;TZID=Pacific/Midway:20101020T160000
CATEGORIES:launch
LOCATION:The Convention Centre, Dublin
WEBSITE:
URL:
CONTACT:
ORGANIZER:Irish Universities Association
ATTACH;FMTTYPE="image/jpeg":http://storage.ning.com/topology/rest/1.0/
 file/get/3057467864?profile=original
ATTENDEE;ROLE=REQ-PARTICIPANT;PARTSTAT=ACCEPTED;RSVP=TRUE;CN="Garret M
 cMahon":http://legacy.openaccessweek.org/profile/GarretMcMahon
ATTENDEE;ROLE=REQ-PARTICIPANT;PARTSTAT=ACCEPTED;RSVP=TRUE;CN="Niamh Br
 ennan":http://legacy.openaccessweek.org/profile/NiamhBrennan
END:VEVENT
END:VCALENDAR
