BEGIN:VCALENDAR
PRODID:NingEventWidget-v1
VERSION:2.0
METHOD:PUBLISH
BEGIN:VTIMEZONE
TZID:Pacific/Midway
X-LIC-LOCATION:Pacific/Midway
BEGIN:STANDARD
TZOFFSETFROM:-1100
TZOFFSETTO:-1100
TZNAME:SST
DTSTART:19700101T000000
END:STANDARD
END:VTIMEZONE
BEGIN:VEVENT
UID:5385115:Event:6332
DTSTAMP:20260419T053147Z
SUMMARY:La comunicazione scientifica in Europa tra registrazione, acce
 sso, impatto e valutazione. Quale ruolo per l'Open Access?
DESCRIPTION:CASPUR and La Sapienza University of Rome organize and eve
 nt on CRIS and their relation with open archives.\n\nFor more informat
 ion visit http://legacy.openaccessweek.org/events/la-comunicazione-sci
 entifica
DTSTART;TZID=Pacific/Midway:20101020T090000
DTEND;TZID=Pacific/Midway:20101020T140000
CATEGORIES:workshop
LOCATION:Rome (Italy)
WEBSITE:http://www.uniciber.it/index.php?id=625
URL:http://www.uniciber.it/index.php?id=625
CONTACT:
ORGANIZER:CASPUR, Sapienza Università di Roma
ATTACH;FMTTYPE="image/jpeg":
ATTENDEE;ROLE=REQ-PARTICIPANT;PARTSTAT=ACCEPTED;RSVP=TRUE;CN="Ilaria F
 ava":http://legacy.openaccessweek.org/profile/IlariaFava
END:VEVENT
END:VCALENDAR
