BEGIN:VCALENDAR
PRODID:NingEventWidget-v1
VERSION:2.0
METHOD:PUBLISH
BEGIN:VTIMEZONE
TZID:Pacific/Midway
X-LIC-LOCATION:Pacific/Midway
BEGIN:STANDARD
TZOFFSETFROM:-1100
TZOFFSETTO:-1100
TZNAME:SST
DTSTART:19700101T000000
END:STANDARD
END:VTIMEZONE
BEGIN:VEVENT
UID:5385115:Event:50064
DTSTAMP:20260422T201650Z
SUMMARY:L’Università di Bologna per l’Open Access. 5° settimana 
 internazionale dell’Accesso Aperto
DESCRIPTION:http://www.unibo.it/Portale/Ricerca/OpenAccess.htm\n\nFor 
 more information visit http://legacy.openaccessweek.org/events/l-unive
 rsit-di-bologna-per-l-open-access-5-settimana
DTSTART;TZID=Pacific/Midway:20111024T110000
DTEND;TZID=Pacific/Midway:20111028T150000
CATEGORIES:workshop
LOCATION:Alma Mater Studiorum - Università di Bologna Sala Corsi dell
 ’ASDD
WEBSITE:
URL:
CONTACT:++39 051 2094318
ORGANIZER;CN="Roberta Lauriola":http://legacy.openaccessweek.org/profi
 le/RobertaLauriola
ATTACH;FMTTYPE="image/jpeg":http://storage.ning.com/topology/rest/1.0/
 file/get/3057482292?profile=original
ATTENDEE;ROLE=REQ-PARTICIPANT;PARTSTAT=ACCEPTED;RSVP=TRUE;CN="Marialau
 ra Vignocchi":http://legacy.openaccessweek.org/profile/MarialauraVigno
 cchi
ATTENDEE;ROLE=REQ-PARTICIPANT;PARTSTAT=ACCEPTED;RSVP=TRUE;CN="Roberta 
 Lauriola":http://legacy.openaccessweek.org/profile/RobertaLauriola
END:VEVENT
END:VCALENDAR
