BEGIN:VCALENDAR
PRODID:NingEventWidget-v1
VERSION:2.0
METHOD:PUBLISH
BEGIN:VTIMEZONE
TZID:Pacific/Midway
X-LIC-LOCATION:Pacific/Midway
BEGIN:STANDARD
TZOFFSETFROM:-1100
TZOFFSETTO:-1100
TZNAME:SST
DTSTART:19700101T000000
END:STANDARD
END:VTIMEZONE
BEGIN:VEVENT
UID:5385115:Event:173314
DTSTAMP:20260421T031202Z
SUMMARY:L'Open access week Ã  l'universitÃ© Bordeaux Montaigne : le li
 vre Ã  l'honneur
DESCRIPTION:Livre numÃ©rique et nouvelles pratiques de la recherche Ã 
  lâ€™heure du libre accÃ¨s\nLes bibliothÃ©caires de l'universitÃ© ont 
 conviÃ© les Ã©diteurs universitaires locaux et 3 chercheurs autour de 
 2 tables rondes et d'un espace dÃ©couverte :\nA 9h30 dans le Hall de l
 'universitÃ©\nLes Presses Universitaires de Bordeaux, Ausonius Edition
 s et Les Editions de la MSHA auront ainsi le plaisir de parler de la p
 lace quâ€™elles ont dÃ©cidÃ© de prendre dans le mouvement du libre acc
 Ã¨s grÃ¢ce Ã  leur intÃ©gration Ã  la plateforme OpenEditionbooks\nA 1
 1h00 dans le hall de l'universitÃ©\n3 chercheurs de l'universitÃ©, FrÃ
 ©dÃ©ric Boutoulle,Guillaume Hanotin et Antoine Ventura Ã©changeront su
 r ce que le livre numÃ©rique et l'open access ont apportÃ© Ã  leur tra
 vail de chercheur\nde 9h Ã  15h\nUn espace dÃ©couverte regrouperaÂ  le
 s tables des Ã©diteurs universitaires locaux et une bibliobox, constit
 uÃ©e de livres en libre accÃ¨s rÃ©unis par les bibliothÃ©caires\n\n\n\
 n\n\nFor more information visit http://legacy.openaccessweek.org/event
 s/l-open-access-week-l-universit-bordeaux-montaigne
DTSTART;TZID=Pacific/Midway:20181025T090000
DTEND;TZID=Pacific/Midway:20181025T150000
CATEGORIES:meeting
LOCATION:France
WEBSITE:http://www.u-bordeaux-montaigne.fr/fr/contact/plan-d-acces.htm
 l
URL:http://www.u-bordeaux-montaigne.fr/fr/contact/plan-d-acces.html
CONTACT:0557124750
ORGANIZER:Service de documentation / PÃ´le services numÃ©riques
ATTACH;FMTTYPE="image/jpeg":http://storage.ning.com/topology/rest/1.0/
 file/get/3057612030?profile=original
ATTENDEE;ROLE=REQ-PARTICIPANT;PARTSTAT=ACCEPTED;RSVP=TRUE;CN="PÃ´le se
 rvices numÃ©riques":http://legacy.openaccessweek.org/profile/Poleservi
 cesnumeriques
END:VEVENT
END:VCALENDAR
