BEGIN:VCALENDAR
PRODID:NingEventWidget-v1
VERSION:2.0
METHOD:PUBLISH
BEGIN:VTIMEZONE
TZID:Pacific/Midway
X-LIC-LOCATION:Pacific/Midway
BEGIN:STANDARD
TZOFFSETFROM:-1100
TZOFFSETTO:-1100
TZNAME:SST
DTSTART:19700101T000000
END:STANDARD
END:VTIMEZONE
BEGIN:VEVENT
UID:5385115:Event:172539
DTSTAMP:20260420T064705Z
SUMMARY:L'Open Access en pratique
DESCRIPTION:La Haute École Pédagogique BEJUNE, dans le cadre de l’
 Open Access Week 2018, a le plaisir de vous convier à différentes ac
 tivités sur les trois sites de l’institution.\nAfin de parfaire vos
  connaissances en termes d’Open Access, nous vous proposons le progr
 amme suivant : activité pratique et ludique et présentation de ress
 ources en ligne.\n\nFor more information visit http://legacy.openacces
 sweek.org/events/l-open-access-en-pratique
DTSTART;TZID=Pacific/Midway:20181023T120000
DTEND;TZID=Pacific/Midway:20181025T133000
CATEGORIES:présentation, activités
LOCATION:30
WEBSITE:http://www.hep-bejune.ch
URL:http://www.hep-bejune.ch
CONTACT:0041328869747
ORGANIZER;CN=HEP-BEJUNE:http://legacy.openaccessweek.org/profile/HEPBE
 JUNE
ATTACH;FMTTYPE="image/jpeg":
ATTENDEE;ROLE=REQ-PARTICIPANT;PARTSTAT=ACCEPTED;RSVP=TRUE;CN=HEP-BEJUN
 E:http://legacy.openaccessweek.org/profile/HEPBEJUNE
END:VEVENT
END:VCALENDAR
