BEGIN:VCALENDAR
PRODID:NingEventWidget-v1
VERSION:2.0
METHOD:PUBLISH
BEGIN:VTIMEZONE
TZID:Pacific/Midway
X-LIC-LOCATION:Pacific/Midway
BEGIN:STANDARD
TZOFFSETFROM:-1100
TZOFFSETTO:-1100
TZNAME:SST
DTSTART:19700101T000000
END:STANDARD
END:VTIMEZONE
BEGIN:VEVENT
UID:5385115:Event:133947
DTSTAMP:20260423T003251Z
SUMMARY:L’Open Access tra Repository ed Editoria: policies, copyrigh
 t e valutazione
DESCRIPTION:Programma: Locandina_OAWeek_unifi\nSaluti istituzionali\nP
 rima sessionePresiede Mauro Guerrini, Commissione di Ateneo per l’ac
 cesso aperto\nSimona Turbanti, Università di Pisa, “Alcuni spunti s
 ulla Valutazione della Qualita' della Ricerca 2011-2014: criteri, nodi
 , ipotesi”\nAntonella De Robbio, Università di Padova, “La gestio
 ne dei diritti entro un repository istituzionale: i vari volti delle v
 ersioni di un paper tra cessioni e licenze”\nTessa Piazzini, Bibliot
 eca Biomedica, “Una proposta di revisione per la policy di Ateneo su
 ll’accesso aperto: evoluzione dello scenario”\nSeconda sessionePre
 siede Andrea Novelli, Presidente Firenze University Press\nPresentazio
 ne e discussione del volume \"Via verde e via d’oro. Le politiche op
 en access dell’Università di Firenze\", acura di Mauro Guerrini e G
 iovanni Mari\n\nFor more information visit http://legacy.openaccesswee
 k.org/events/l-open-access-e-la-valutazione-della-ricerca-i-criteri-de
 lla-1
DTSTART;TZID=Pacific/Midway:20151021T150000
DTEND;TZID=Pacific/Midway:20151021T180000
CATEGORIES:meeting
LOCATION:Italy
WEBSITE:https://www.google.it/maps/place/Via+S.+Gallo,+10,+50129+Firen
 ze/@43.7787664,11.2562796,18z/data=!4m2!3m1!1s0x132a541cb9274f81:0x5ad
 9d7a9edc893e9?hl=it
URL:https://www.google.it/maps/place/Via+S.+Gallo,+10,+50129+Firenze/@
 43.7787664,11.2562796,18z/data=!4m2!3m1!1s0x132a541cb9274f81:0x5ad9d7a
 9edc893e9?hl=it
CONTACT:
ORGANIZER:Commissione Open Access di Ateneo
ATTACH;FMTTYPE="image/jpeg":
ATTENDEE;ROLE=REQ-PARTICIPANT;PARTSTAT=ACCEPTED;RSVP=TRUE;CN="Tessa Pi
 azzini":http://legacy.openaccessweek.org/profile/TessaPiazzini
END:VEVENT
END:VCALENDAR
