BEGIN:VCALENDAR
PRODID:NingEventWidget-v1
VERSION:2.0
METHOD:PUBLISH
BEGIN:VTIMEZONE
TZID:Pacific/Midway
X-LIC-LOCATION:Pacific/Midway
BEGIN:STANDARD
TZOFFSETFROM:-1100
TZOFFSETTO:-1100
TZNAME:SST
DTSTART:19700101T000000
END:STANDARD
END:VTIMEZONE
BEGIN:VEVENT
UID:5385115:Event:185798
DTSTAMP:20260422T204847Z
SUMMARY:LE@D - Open Access KIOSK
DESCRIPTION: KIOSK ACESSO ABERTO, dia 25 outubro às 17,30h R. Escola
  Politécnica, 147, Lisboa - Portugal.\nÉ dirigida a investigadores, 
 docentes, estudantes, parceiros  e cidadãos em geral, onde se divulg
 am os resultados de investigação de projetos em curso com impacto na
  Educação a Distância & eLearning: Acesso Aberto; Recursos Educacio
 nais Abertos; Práticas Educacionais e de Investigação Abertas.\nA p
 articipação no KIOSK Online realiza-se através do link: https://vid
 eoconf-colibri.zoom.us/j/34112744\nPrograma Provisório aqui: https://
 www.slideshare.net/leaduab/ledprograma-semana-internacional-acesso-abe
 rto-2019\n\nFor more information visit http://legacy.openaccessweek.or
 g/events/kiosk-open-access
DTSTART;TZID=Pacific/Midway:20191025T180000
DTEND;TZID=Pacific/Midway:20191025T190000
CATEGORIES:interactive, workshop
LOCATION:Portugal
WEBSITE:http://lead.uab.pt/led-participa-na-semana-internacional-do-ac
 esso-aberto/
URL:http://lead.uab.pt/led-participa-na-semana-internacional-do-acesso
 -aberto/
CONTACT:
ORGANIZER;CN="Lina Morgado":http://legacy.openaccessweek.org/profile/L
 inaMorgado572
ATTACH;FMTTYPE="image/jpeg":https://storage.ning.com/topology/rest/1.0
 /file/get/3674747021?profile=original
ATTENDEE;ROLE=REQ-PARTICIPANT;PARTSTAT=ACCEPTED;RSVP=TRUE;CN="Lina Mor
 gado":http://legacy.openaccessweek.org/profile/LinaMorgado572
END:VEVENT
END:VCALENDAR
