BEGIN:VCALENDAR
PRODID:NingEventWidget-v1
VERSION:2.0
METHOD:PUBLISH
BEGIN:VTIMEZONE
TZID:Pacific/Midway
X-LIC-LOCATION:Pacific/Midway
BEGIN:STANDARD
TZOFFSETFROM:-1100
TZOFFSETTO:-1100
TZNAME:SST
DTSTART:19700101T000000
END:STANDARD
END:VTIMEZONE
BEGIN:VEVENT
UID:5385115:Event:88983
DTSTAMP:20260423T223545Z
SUMMARY:Journée d'étude \"Le libre accès à l'Information Scientifi
 que et Technique pour la promotion de la recherche scientifique\"
DESCRIPTION:Nous proposons dans cette journée de passer en revue les 
 grandes problématiques liées au libre accès aux contenus scientifiq
 ues, et son apport pour la promotion et la diffusion de la recherche. 
 Des retours d'expérience en faveur du libre accès seront présentés
  aussi au cours de cette journée.\nCette journée se veut aussi une o
 ccasion pour encourager les chercheurs et les professionnels de l’IS
 T en Tunisie de s’engager en faveur du mouvement du libre accès par
  le développement des archives institutionnelles ou thématiques dans
  les universités tunisiennes.\n\nFor more information visit http://le
 gacy.openaccessweek.org/events/journ-e-d-tude-le-libre-acc-s-l-informa
 tion-scientifique-et
DTSTART;TZID=Pacific/Midway:20130410T083000
DTEND;TZID=Pacific/Midway:20130410T170000
CATEGORIES:journée, "d'étude"
LOCATION:Institut Supérieur de Documentation de Tunis
WEBSITE:http://www.cnudst.rnrt.tn/jela2013.html
URL:http://www.cnudst.rnrt.tn/jela2013.html
CONTACT:
ORGANIZER:CNUDST & ISD
ATTACH;FMTTYPE="image/jpeg":
ATTENDEE;ROLE=REQ-PARTICIPANT;PARTSTAT=ACCEPTED;RSVP=TRUE;CN="chokri b
 en romdhane":http://legacy.openaccessweek.org/profile/chokribenromdhan
 e
ATTENDEE;ROLE=REQ-PARTICIPANT;PARTSTAT=ACCEPTED;RSVP=TRUE;CN="Salahedd
 ien Ben Ali":http://legacy.openaccessweek.org/profile/SalaheddienBenAl
 i
ATTENDEE;ROLE=REQ-PARTICIPANT;PARTSTAT=ACCEPTED;RSVP=TRUE;CN="Bessem A
 mira":http://legacy.openaccessweek.org/profile/BessemAmira
ATTENDEE;ROLE=REQ-PARTICIPANT;PARTSTAT=ACCEPTED;RSVP=TRUE;CN="Amel Sma
 oui Chemli":http://legacy.openaccessweek.org/profile/AmelSmaouiChemli
END:VEVENT
END:VCALENDAR
