BEGIN:VCALENDAR
PRODID:NingEventWidget-v1
VERSION:2.0
METHOD:PUBLISH
BEGIN:VTIMEZONE
TZID:Pacific/Midway
X-LIC-LOCATION:Pacific/Midway
BEGIN:STANDARD
TZOFFSETFROM:-1100
TZOFFSETTO:-1100
TZNAME:SST
DTSTART:19700101T000000
END:STANDARD
END:VTIMEZONE
BEGIN:VEVENT
UID:5385115:Event:6540
DTSTAMP:20260419T085751Z
SUMMARY:Jornada de Acceso Abierto (Univ.Nac.La Plata, Argentina)
DESCRIPTION:La Semana del Acceso Abierto se celebrará por cuarta vez 
 a nivel mundial del 18 al 24 de Octubre bajo el lema Leer, Compartir y
  Avanzar, con el objetivo de promocionar al Acceso Abierto como una nu
 eva norma académica y científica.\n\nLa Facultad de Informática de 
 la UNLP promueve esta iniciativa centrada en el acceso libre y gratuit
 o a través de Internet a la educación, y producción de bienes creat
 ivos intelectuales de investigación y desarrollo tecnológico, realiz
 ando una jornada académica. Será una oportunidad para ampliar la dif
 usión y el conocimiento sobre este tema en nuestro ámbito.\n\nFecha:
  martes 19 de octubre.\n\n\nLugar: Biblioteca de la Facultad de Inform
 ática de la Universidad Nacional de La Plata (calle 50 y 120 - La Pla
 ta)\n\n\nCronograma:\n\n9.30 hs. Presentación de la Jornada de Acceso
  Abierto\n\n\n9.45 hs. “El crecimiento del Movimiento Open Access”
 . María del Rosario Molfino (Biblioteca - Facultad de Informática - 
 UNLP)\n\n\n10.00 hs. Videoconferencia: “Nuevas tendencias, librería
 s digitales semánticas”. Ing. Erika Teresa Duque Bedoya (Universida
 d de La Sabana)\n\ny el Ing. Edwin Montoya Múnera (Universidad EAFIT,
  Coordinador del Proyecto BDCol – Biblioteca Digital de Colombia).\n
 \n\n11.00 hs. “Derechos de autor y licencias Creative Commons”. Ab
 og. María Clara Lima (Dirección de Propiedad Intelectual -UNLP)\n\n\
 n12.00 hs. Videoconferencia. “Repositórios Digitais Abertos e sua i
 ntegração com Ambientes Virtuais de Aprendizagem” -\n\n“Reposito
 rios digitales abiertos y su integración con ambientes virtuales de a
 prendizaje”\n\nDra. Liane Margarida Rockenbach Tarouco (Universidade
  Federal do Rio Grande do Sul)\n\n\n\n13.00 hs \"DSpace, compartiendo 
 el conocimiento”. Aldo Vizcaino. (Facultad de Informática – UNLP)
 \n\n\n\nInscripción:Entrada libre y gratuita, previa inscripción por
  mail a biblioteca@info.unlp.edu.ar. Se entregarán certificados\n\nFo
 r more information visit http://legacy.openaccessweek.org/events/jorna
 da-de-acceso-abierto
DTSTART;TZID=Pacific/Midway:20101019T180000
DTEND;TZID=Pacific/Midway:20101019T190000
CATEGORIES:oa, week, event
LOCATION:La Plata, Argentina
WEBSITE:http://www.info.unlp.edu.ar/articulo/2010/10/6/bicentenario_ma
 rtes
URL:http://www.info.unlp.edu.ar/articulo/2010/10/6/bicentenario_martes
CONTACT:
ORGANIZER:UNLP (Argentina)
ATTACH;FMTTYPE="image/jpeg":
ATTENDEE;ROLE=REQ-PARTICIPANT;PARTSTAT=ACCEPTED;RSVP=TRUE;CN="Dominiqu
 e Babini":http://legacy.openaccessweek.org/profile/DominiqueBabini
END:VEVENT
END:VCALENDAR
