BEGIN:VCALENDAR
PRODID:NingEventWidget-v1
VERSION:2.0
METHOD:PUBLISH
BEGIN:VTIMEZONE
TZID:Pacific/Midway
X-LIC-LOCATION:Pacific/Midway
BEGIN:STANDARD
TZOFFSETFROM:-1100
TZOFFSETTO:-1100
TZNAME:SST
DTSTART:19700101T000000
END:STANDARD
END:VTIMEZONE
BEGIN:VEVENT
UID:5385115:Event:102518
DTSTAMP:20260421T032137Z
SUMMARY:Is Open Access just another fad?  Dr Alma Swan
DESCRIPTION:Inaugural Open Access Speakers Forum.  Dr Alma Swan prese
 nting: Is Open Access just another fad?\n\nFor more information visit 
 http://legacy.openaccessweek.org/events/is-open-access-just-another-fa
 d-dr-alma-swan
DTSTART;TZID=Pacific/Midway:20131030T100000
DTEND;TZID=Pacific/Midway:20131030T110000
CATEGORIES:lecture
LOCATION:Auditorium, Level 2, Sir Llew Edwards Building (Bldg 14), UQ,
  St Lucia
WEBSITE:
URL:
CONTACT:
ORGANIZER;CN="Lisa Kruesi":http://legacy.openaccessweek.org/profile/Li
 saKruesi
ATTACH;FMTTYPE="image/jpeg":
ATTENDEE;ROLE=REQ-PARTICIPANT;PARTSTAT=ACCEPTED;RSVP=TRUE;CN="Lisa Kru
 esi":http://legacy.openaccessweek.org/profile/LisaKruesi
END:VEVENT
END:VCALENDAR
