BEGIN:VCALENDAR
PRODID:NingEventWidget-v1
VERSION:2.0
METHOD:PUBLISH
BEGIN:VTIMEZONE
TZID:Pacific/Midway
X-LIC-LOCATION:Pacific/Midway
BEGIN:STANDARD
TZOFFSETFROM:-1100
TZOFFSETTO:-1100
TZNAME:SST
DTSTART:19700101T000000
END:STANDARD
END:VTIMEZONE
BEGIN:VEVENT
UID:5385115:Event:116208
DTSTAMP:20260423T233847Z
SUMMARY:iris (Institutional Repository for Information Sharing) of the
  Western Pacific Region of WHO
DESCRIPTION:\n\nFor more information visit http://legacy.openaccesswee
 k.org/events/iris-institutional-repository-for-information-sharing-of-
 the
DTSTART;TZID=Pacific/Midway:20141014T180000
DTEND;TZID=Pacific/Midway:20141017T190000
CATEGORIES:launching, a, new, "ir."
LOCATION:Office for the Western Pacific of WHO,  Philippines
WEBSITE:https://www.google.co.kr/maps/place/World+Health+Organization/
 @14.5801558,120.9842208,18z/data=!4m2!3m1!1s0x0:0xdb95860be1309097?hl=
 en
URL:https://www.google.co.kr/maps/place/World+Health+Organization/@14.
 5801558,120.9842208,18z/data=!4m2!3m1!1s0x0:0xdb95860be1309097?hl=en
CONTACT:
ORGANIZER:Marie Vullemin
ATTACH;FMTTYPE="image/jpeg":http://storage.ning.com/topology/rest/1.0/
 file/get/3057545747?profile=original
ATTENDEE;ROLE=REQ-PARTICIPANT;PARTSTAT=ACCEPTED;RSVP=TRUE;CN="Jeong-Wo
 ok Seo":http://legacy.openaccessweek.org/profile/JeongWookSeo229
END:VEVENT
END:VCALENDAR
