BEGIN:VCALENDAR
PRODID:NingEventWidget-v1
VERSION:2.0
METHOD:PUBLISH
BEGIN:VTIMEZONE
TZID:Pacific/Midway
X-LIC-LOCATION:Pacific/Midway
BEGIN:STANDARD
TZOFFSETFROM:-1100
TZOFFSETTO:-1100
TZNAME:SST
DTSTART:19700101T000000
END:STANDARD
END:VTIMEZONE
BEGIN:VEVENT
UID:5385115:Event:48677
DTSTAMP:20260423T032726Z
SUMMARY:Introduction to Creative Commons
DESCRIPTION:Introduction to Creative Commons Licensing.\nA \"brown bag
 \" lunch talk by Prof. David Orozco Guests are invited to bring their 
 own lunch.\n\nFor more information visit http://legacy.openaccessweek.
 org/events/introduction-to-creative-commons
DTSTART;TZID=Pacific/Midway:20111025T113000
DTEND;TZID=Pacific/Midway:20111025T123000
CATEGORIES:lunch, talk
LOCATION:Gregory Room, Goldstein Library, Florida State University
WEBSITE:
URL:
CONTACT:
ORGANIZER;CN="Micah Vandegrift":http://legacy.openaccessweek.org/profi
 le/MicahVandegrift
ATTACH;FMTTYPE="image/jpeg":
ATTENDEE;ROLE=REQ-PARTICIPANT;PARTSTAT=ACCEPTED;RSVP=TRUE;CN="Micah Va
 ndegrift":http://legacy.openaccessweek.org/profile/MicahVandegrift
END:VEVENT
END:VCALENDAR
