BEGIN:VCALENDAR
PRODID:NingEventWidget-v1
VERSION:2.0
METHOD:PUBLISH
BEGIN:VTIMEZONE
TZID:Pacific/Midway
X-LIC-LOCATION:Pacific/Midway
BEGIN:STANDARD
TZOFFSETFROM:-1100
TZOFFSETTO:-1100
TZNAME:SST
DTSTART:19700101T000000
END:STANDARD
END:VTIMEZONE
BEGIN:VEVENT
UID:5385115:Event:161064
DTSTAMP:20260423T231342Z
SUMMARY:Internationale Open Access Week am KIT – Auftaktveranstaltun
 g am 23.10.2017
DESCRIPTION:Karlsruher Forschungsleistungen sollen weltweit nach dem P
 rinzip des Open Access frei zugänglich sein. Durch eine Open-Access-P
 ublikation werden Wissenschaftlerinnen und  Wissenschaftler mit Ihren
  Leistungen deutlicher wahrgenommen. Gleichzeitig ist Open Access ein 
 wichtiger Baustein bei der Transition in eine nachhaltigere Form der W
 issenschaftskommunikation in einer digitalen Gesellschaft.  \nIn mehre
 ren Vorträgen werden die Aktivitäten des KIT rund um das Thema Open 
 Access beleuchtet sowie einzelne Forschungsservices der KIT-Bibliothek
  im Bereich des Open-Access-Publizierens vorgestellt. Im Anschluss bes
 teht die Gelegenheit für einen Austausch mit Experten der \nKIT-Bibli
 othek.\nProgramm:\n\nBegrüßung und Überblick zu den Aktivitäten ru
 nd um Open Access am KIT / Referentin: Regine Tobias, Open-Access-Beau
 ftragte der KIT-Bibliothek\n\nThe cost of knowledge- Transition zu ein
 em großflächigen und nachhaltigen Geschäftsmodell des Open-Access-P
 ublizierens / Referent: Frank Scholze, Direktor der KIT-Bibliothek\n\n
 Open-Access-Publikationsservices der KIT-Bibliothek\nOpen-Access-Publi
 kationswege im Repository KITopen / Referenten: Team KITopen\n\n\nKIT 
 Scientific Publishing: Der Open-Access-Verlag des KIT / Referentinnen:
  Tina Zimmermann, Brigitte Maier\nFinanzierung von Open Access am KIT:
  Der KIT-Publikationsfonds / Referentin: Doris Jaeger\n\n\nGelegenheit
  zum Austausch mit Experten der KIT-Bibliothek\n\n\nDetails:\n\nOrt: V
 ortragsraum der KIT-Bibliothek Süd, Neubau, 3. OG\nZeit: 23.10.2017, 
 10.30-12.30 Uhr\nInteressentenkreis: Forschende des KIT\nAnmeldung: Um
  eine informelle Bestätigung wird gebeten unter kitopen@bibliothek.ki
 t.edu.\n\n\n\n\n\nFor more information visit http://legacy.openaccessw
 eek.org/events/internationale-open-access-week-am-kit-auftaktveranstal
 tung-am-23
DTSTART;TZID=Pacific/Midway:20171023T100000
DTEND;TZID=Pacific/Midway:20171023T123000
CATEGORIES:presentation, seminar
LOCATION:Germany
WEBSITE:http://www.bibliothek.kit.edu
URL:http://www.bibliothek.kit.edu
CONTACT:
ORGANIZER:KIT-Bibliothek
ATTACH;FMTTYPE="image/jpeg":http://storage.ning.com/topology/rest/1.0/
 file/get/3057593683?profile=original
ATTENDEE;ROLE=REQ-PARTICIPANT;PARTSTAT=ACCEPTED;RSVP=TRUE;CN="Ernst Ro
 tzinger":http://legacy.openaccessweek.org/profile/ErnstRotzinger
END:VEVENT
END:VCALENDAR
