BEGIN:VCALENDAR
PRODID:NingEventWidget-v1
VERSION:2.0
METHOD:PUBLISH
BEGIN:VTIMEZONE
TZID:Pacific/Midway
X-LIC-LOCATION:Pacific/Midway
BEGIN:STANDARD
TZOFFSETFROM:-1100
TZOFFSETTO:-1100
TZNAME:SST
DTSTART:19700101T000000
END:STANDARD
END:VTIMEZONE
BEGIN:VEVENT
UID:5385115:Event:172584
DTSTAMP:20260425T050736Z
SUMMARY:International Open Access Week celebrated at EWU Library
DESCRIPTION:EWU Library team celebrated International Open Access Week
  2016 on 24 October 2016 at 4:00-5:00 pm at EWU Library. In this regar
 d EWU Library arranged an in-house program and discussion session with
  Library personnel on Open Access for research community. This program
  conducted by Dr. Dilara Begum, Librarian (In-charge) and Md. Mamun-Or
 -Rashid, Senior Assistant Librarian. It is a global event and an oppor
 tunity for the academic and research community to continue to learn ab
 out the potential benefits of Open Access, to share what they’ve lea
 rned with colleagues, and to help inspire wider participation in helpi
 ng to make Open Access a new norm in scholarship and research. This ye
 ar's theme, \"Open in Action,\" focuses on encouraging us to take conc
 rete steps towards realizing the goal of open research. The main purpo
 se of this program was how can EWU Library assist the university commu
 nity to understand and the opportunities of Open Access.\n\n\n\n\n\nFo
 r more information visit http://legacy.openaccessweek.org/events/inter
 national-open-access-week-celebrated-at-ewu-library
DTSTART;TZID=Pacific/Midway:20161024T160000
DTEND;TZID=Pacific/Midway:20161024T170000
CATEGORIES:discussion
LOCATION:Bangladesh
WEBSITE:https://www.google.com/maps/place/East+West+University+Library
 /@23.7689239,90.4235718,17z/data=!3m1!4b1!4m5!3m4!1s0x3755c78eb3812617
 :0x900cc13a7948422e!8m2!3d23.768919!4d90.4257605
URL:https://www.google.com/maps/place/East+West+University+Library/@23
 .7689239,90.4235718,17z/data=!3m1!4b1!4m5!3m4!1s0x3755c78eb3812617:0x9
 00cc13a7948422e!8m2!3d23.768919!4d90.4257605
CONTACT:
ORGANIZER:East West University Library
ATTACH;FMTTYPE="image/jpeg":http://storage.ning.com/topology/rest/1.0/
 file/get/3057612125?profile=original
ATTENDEE;ROLE=REQ-PARTICIPANT;PARTSTAT=ACCEPTED;RSVP=TRUE;CN="Shaharim
 a Parvin":http://legacy.openaccessweek.org/profile/ShaharimaParvin
END:VEVENT
END:VCALENDAR
