BEGIN:VCALENDAR
PRODID:NingEventWidget-v1
VERSION:2.0
METHOD:PUBLISH
BEGIN:VTIMEZONE
TZID:Pacific/Midway
X-LIC-LOCATION:Pacific/Midway
BEGIN:STANDARD
TZOFFSETFROM:-1100
TZOFFSETTO:-1100
TZNAME:SST
DTSTART:19700101T000000
END:STANDARD
END:VTIMEZONE
BEGIN:VEVENT
UID:5385115:Event:184256
DTSTAMP:20260421T031313Z
SUMMARY:International Open Access Week at the American University of B
 eirut Libraries in Lebanon
DESCRIPTION:\n\nFor more information visit http://legacy.openaccesswee
 k.org/events/international-open-access-week-at-the-american-university
 -of
DTSTART;TZID=Pacific/Midway:20191021T100000
DTEND;TZID=Pacific/Midway:20191025T170000
CATEGORIES:presentations, and, discussions
LOCATION:Lebanon
WEBSITE:http://tiny.cc/openaccessweek
URL:http://tiny.cc/openaccessweek
CONTACT:+96179109988
ORGANIZER:American University of Beirut Libraries (Dalal Rahme, Data S
 ervices Librarian)
ATTACH;FMTTYPE="image/jpeg":https://storage.ning.com/topology/rest/1.0
 /file/get/3654690502?profile=original
ATTENDEE;ROLE=REQ-PARTICIPANT;PARTSTAT=ACCEPTED;RSVP=TRUE;CN="Dalal Ra
 hme":http://legacy.openaccessweek.org/profile/DalalRahme
END:VEVENT
END:VCALENDAR
