BEGIN:VCALENDAR
PRODID:NingEventWidget-v1
VERSION:2.0
METHOD:PUBLISH
BEGIN:VTIMEZONE
TZID:Pacific/Midway
X-LIC-LOCATION:Pacific/Midway
BEGIN:STANDARD
TZOFFSETFROM:-1100
TZOFFSETTO:-1100
TZNAME:SST
DTSTART:19700101T000000
END:STANDARD
END:VTIMEZONE
BEGIN:VEVENT
UID:5385115:Event:103068
DTSTAMP:20260420T162848Z
SUMMARY:Intercambio de Experiencias de publicación en acceso abierto 
 (Open Access) en revistas científicas
DESCRIPTION:El objetivo de este encuentro es discutir sobre los cambio
 s que las Nuevas Tecnologías de la Infor- mación han provocado en 
 las pautas de difusión y comunicación de las publicaciones cienti
 ficas. Una de las transformaciones más significativas ha sido el de
 sarrollo de publicaciones en acceso abierto. Desde 2008, la Revista Ps
 icoperspectivas se convierte en una revista de acceso abierto incorpor
 ando la plataforma Open Journal System. Cinco años después, y con 
 motivo de la celebración internacional de la Open Access Week, consi
 deramos necesario seguir enriqueciendo este debate a través del inte
 rcambio con otras publicaciones chilenas que participan de la filosofi
 ́a del acceso abierto.\nEn la mesa redonda participarán Lupicinio I
 ñíguez, Editor de la Revista Athenea Digital; Marcela Cor- nejo, E
 ditora Revista Psykhe; Verónica López, Editora de la Revista Psico
 perspectivas y Carmen Gloria Núñez, Presidenta de la Asociación 
 Chilena de revistas de Psicología, quien moderará la discusión.
 \n\n\n\n\nFor more information visit http://legacy.openaccessweek.org
 /events/intercambio-de-experiencias-de-publicaci-n-en-acceso-abierto-o
 pen
DTSTART;TZID=Pacific/Midway:20131025T100000
DTEND;TZID=Pacific/Midway:20131025T120000
CATEGORIES:mesa, redonda
LOCATION:Sala de Posgrado de la  Escuela de Psicología. PUCV
WEBSITE:https://maps.google.es/maps?q=Avenida+el+Bosque+1290,+Vi%C3%B1
 a+del+Mar,+Chile&hl=es&ie=UTF8&sll=-33.00917,-71.537461&sspn=0.008709,
 0.021136&hnear=Municipalidad+de+Vina+del+Mar%2FContralori+A+-+Calle+el
 +Bosque+Vi+A+del+M,+Valpara%C3%ADso,+Chile&t=m&z=14
URL:https://maps.google.es/maps?q=Avenida+el+Bosque+1290,+Vi%C3%B1a+de
 l+Mar,+Chile&hl=es&ie=UTF8&sll=-33.00917,-71.537461&sspn=0.008709,0.02
 1136&hnear=Municipalidad+de+Vina+del+Mar%2FContralori+A+-+Calle+el+Bos
 que+Vi+A+del+M,+Valpara%C3%ADso,+Chile&t=m&z=14
CONTACT:
ORGANIZER:Revista Psicoperspectivas
ATTACH;FMTTYPE="image/jpeg":http://storage.ning.com/topology/rest/1.0/
 file/get/3057530838?profile=original
ATTENDEE;ROLE=REQ-PARTICIPANT;PARTSTAT=ACCEPTED;RSVP=TRUE;CN="Lupicini
 o Iñiguez-Rueda":http://legacy.openaccessweek.org/profile/LupicinioIn
 iguezRueda
END:VEVENT
END:VCALENDAR
