BEGIN:VCALENDAR
PRODID:NingEventWidget-v1
VERSION:2.0
METHOD:PUBLISH
BEGIN:VTIMEZONE
TZID:Pacific/Midway
X-LIC-LOCATION:Pacific/Midway
BEGIN:STANDARD
TZOFFSETFROM:-1100
TZOFFSETTO:-1100
TZNAME:SST
DTSTART:19700101T000000
END:STANDARD
END:VTIMEZONE
BEGIN:VEVENT
UID:5385115:Event:174139
DTSTAMP:20260422T001932Z
SUMMARY:Institutional Repository ELAKPI: How Can We Create the High-Qu
 ality University e-Collection by Common Efforts
DESCRIPTION:KPI Library invites students, researchers, librarians and 
 all interested persons to participate in workshop \"Institutional Repo
 sitory ELAKPI: How Can We Create the High-Quality University e-Collect
 ion by Common Efforts\".\n\nFor more information visit http://legacy.o
 penaccessweek.org/events/institutional-repository-elakpi-how-can-we-cr
 eate-the-high
DTSTART;TZID=Pacific/Midway:20181023T150000
DTEND;TZID=Pacific/Midway:20181023T170000
CATEGORIES:workshop, seminar
LOCATION:Ukraine
WEBSITE:http://library.kpi.ua
URL:http://library.kpi.ua
CONTACT:+38 (044) 236-30-72
ORGANIZER:KPI Library
ATTACH;FMTTYPE="image/jpeg":http://storage.ning.com/topology/rest/1.0/
 file/get/3057612718?profile=original
ATTENDEE;ROLE=REQ-PARTICIPANT;PARTSTAT=ACCEPTED;RSVP=TRUE;CN="Evgeniia
  Kulyk":http://legacy.openaccessweek.org/profile/EvgeniiaKulyk
ATTENDEE;ROLE=REQ-PARTICIPANT;PARTSTAT=TENTATIVE;RSVP=TRUE;CN="Maryna 
 Nazarovets":http://legacy.openaccessweek.org/profile/MarynaNazarovets
END:VEVENT
END:VCALENDAR
