BEGIN:VCALENDAR
PRODID:NingEventWidget-v1
VERSION:2.0
METHOD:PUBLISH
BEGIN:VTIMEZONE
TZID:Pacific/Midway
X-LIC-LOCATION:Pacific/Midway
BEGIN:STANDARD
TZOFFSETFROM:-1100
TZOFFSETTO:-1100
TZNAME:SST
DTSTART:19700101T000000
END:STANDARD
END:VTIMEZONE
BEGIN:VEVENT
UID:5385115:Event:101803
DTSTAMP:20260425T155718Z
SUMMARY:Innovación educativa con recursos abiertos
DESCRIPTION:Conferencia: Innovación educativa con recursos abiertos /
  Ing. Victor Miguel Cuchillac Callejas  Instituto de Ciencia, Tecnolo
 gía e Innovación  (ICTI). Universidad Francisco Gavidia.\n\nFor mor
 e information visit http://legacy.openaccessweek.org/events/innovaci-n
 -educativa-con-recursos-abiertos
DTSTART;TZID=Pacific/Midway:20131023T090000
DTEND;TZID=Pacific/Midway:20131023T110000
CATEGORIES:conference
LOCATION:Universidad Francisco Gavidia, Auditorio del Edificio “E
WEBSITE:https://maps.google.com.sv/maps?oe=utf-8&client=firefox-a&ie=U
 TF-8&q=Cl%C3%ADnica+de+Psicolog%C3%ADa+UFG&fb=1&gl=sv&hq=ufg&hnear=0x8
 f633067b411775d:0x1f75978893fb5c96,San+Salvador&cid=0,0,71074625874539
 3349&ei=7HlgUpTDEoHe8ATR-oD4CQ&ved=0CJcBEPwSMBA
URL:https://maps.google.com.sv/maps?oe=utf-8&client=firefox-a&ie=UTF-8
 &q=Cl%C3%ADnica+de+Psicolog%C3%ADa+UFG&fb=1&gl=sv&hq=ufg&hnear=0x8f633
 067b411775d:0x1f75978893fb5c96,San+Salvador&cid=0,0,710746258745393349
 &ei=7HlgUpTDEoHe8ATR-oD4CQ&ved=0CJcBEPwSMBA
CONTACT:
ORGANIZER:Ing. Sonia Amaya, Directora del Sistema Bibliotecario de la 
 Universidad Francisco Gavidia.
ATTACH;FMTTYPE="image/jpeg":http://storage.ning.com/topology/rest/1.0/
 file/get/3057527462?profile=original
ATTENDEE;ROLE=REQ-PARTICIPANT;PARTSTAT=ACCEPTED;RSVP=TRUE;CN="Franklin
  Alexander Flores":http://legacy.openaccessweek.org/profile/FranklinAl
 exanderFlores
END:VEVENT
END:VCALENDAR
