BEGIN:VCALENDAR
PRODID:NingEventWidget-v1
VERSION:2.0
METHOD:PUBLISH
BEGIN:VTIMEZONE
TZID:Pacific/Midway
X-LIC-LOCATION:Pacific/Midway
BEGIN:STANDARD
TZOFFSETFROM:-1100
TZOFFSETTO:-1100
TZNAME:SST
DTSTART:19700101T000000
END:STANDARD
END:VTIMEZONE
BEGIN:VEVENT
UID:5385115:Event:173120
DTSTAMP:20260421T043713Z
SUMMARY:Indiana University Open Access Events
DESCRIPTION:Please join Indiana University Libraries, Scholarly Commun
 ication Department, IU MoneySmarts, and Teaching and Learning Departme
 nt and others in the Learning Commons to learn all about Open Access, 
 why you should care about it, and what you can do!Activities will incl
 ude learning how to improve your Instagram and presentation game with 
 CC0 images, reflecting on Wikipedia and its data, obtaining Open Acces
 s research, discussing course material costs, and learning more about 
 open government information resources.\n\nFor more information visit h
 ttp://legacy.openaccessweek.org/events/indiana-university-open-access-
 events
DTSTART;TZID=Pacific/Midway:20181022T110000
DTEND;TZID=Pacific/Midway:20181023T130000
CATEGORIES:presentation
LOCATION:1
WEBSITE:
URL:
CONTACT:
ORGANIZER;CN="Sarah Hare":http://legacy.openaccessweek.org/profile/Sar
 ahHare970
ATTACH;FMTTYPE="image/jpeg":
ATTENDEE;ROLE=REQ-PARTICIPANT;PARTSTAT=ACCEPTED;RSVP=TRUE;CN="Sarah Ha
 re":http://legacy.openaccessweek.org/profile/SarahHare970
END:VEVENT
END:VCALENDAR
