BEGIN:VCALENDAR
PRODID:NingEventWidget-v1
VERSION:2.0
METHOD:PUBLISH
BEGIN:VTIMEZONE
TZID:Pacific/Midway
X-LIC-LOCATION:Pacific/Midway
BEGIN:STANDARD
TZOFFSETFROM:-1100
TZOFFSETTO:-1100
TZNAME:SST
DTSTART:19700101T000000
END:STANDARD
END:VTIMEZONE
BEGIN:VEVENT
UID:5385115:Event:8412
DTSTAMP:20260424T080425Z
SUMMARY:Inauguration of the OA week at the Universitat de Barcelona
DESCRIPTION:Open Conferences:\n\"Open Access at the Universitat de Bar
 celona\", Ignasi Labastida\n\"Open research at the institutional repos
 itory of the Universitat de Barcelona\", Montserrat Aguasca\n(in Catal
 an)\n\nMore info at http://www.ub.edu/odc\n\nFor more information visi
 t http://legacy.openaccessweek.org/events/inauguration-of-the-oa-week-
 at
DTSTART;TZID=Pacific/Midway:20101018T120000
DTEND;TZID=Pacific/Midway:20101018T140000
CATEGORIES:conference
LOCATION:Sala Ramon y Cajal, Universitat de Barcelona
WEBSITE:http://maps.google.com/maps?cid=7597379312495189892
URL:http://maps.google.com/maps?cid=7597379312495189892
CONTACT:
ORGANIZER:Oficina de Difusió del Coneixement - CRAI UB
ATTACH;FMTTYPE="image/jpeg":http://storage.ning.com/topology/rest/1.0/
 file/get/3057470450?profile=original
ATTENDEE;ROLE=REQ-PARTICIPANT;PARTSTAT=ACCEPTED;RSVP=TRUE;CN="Ignasi L
 abastida":http://legacy.openaccessweek.org/profile/IgnasiLabastida
END:VEVENT
END:VCALENDAR
