BEGIN:VCALENDAR
PRODID:NingEventWidget-v1
VERSION:2.0
METHOD:PUBLISH
BEGIN:VTIMEZONE
TZID:Pacific/Midway
X-LIC-LOCATION:Pacific/Midway
BEGIN:STANDARD
TZOFFSETFROM:-1100
TZOFFSETTO:-1100
TZNAME:SST
DTSTART:19700101T000000
END:STANDARD
END:VTIMEZONE
BEGIN:VEVENT
UID:5385115:Event:3452
DTSTAMP:20260422T164546Z
SUMMARY:Implementing the Durham Statement: Best Practices for Open Acc
 ess Law Journals
DESCRIPTION:Sponsored by the Duke Law School J. Michael Goodson Law Li
 brary and Center for the Study of the Public Domain, and the Harvard L
 aw Library: A workshop aimed at student law review editors, designed t
 o present and discuss best practices for law journals as increasing nu
 mbers move into electronic publishing. The workshop is also open to la
 w librarians, law review advisers, and all others who are interested i
 n open access and legal publishing. It will be webcast and promoted to
  all ABA-accredited law schools. For more information and to register,
  please go to: http://www.law.duke.edu/libtech/openaccess/conference20
 10\n\nRegistration is free, but requested for catering.\n\nFor more in
 formation visit http://legacy.openaccessweek.org/events/implementing-t
 he-durham
DTSTART;TZID=Pacific/Midway:20101022T093000
DTEND;TZID=Pacific/Midway:20101022T163000
CATEGORIES:workshop
LOCATION:Duke Law School
WEBSITE:http://www.law.duke.edu/
URL:http://www.law.duke.edu/
CONTACT:
ORGANIZER;CN="Richard A. Danner":http://legacy.openaccessweek.org/prof
 ile/RichardADanner
ATTACH;FMTTYPE="image/jpeg":http://storage.ning.com/topology/rest/1.0/
 file/get/3057466795?profile=original
ATTENDEE;ROLE=REQ-PARTICIPANT;PARTSTAT=ACCEPTED;RSVP=TRUE;CN="Paolo Ma
 ngiafico":http://legacy.openaccessweek.org/profile/PaoloMangiafico
ATTENDEE;ROLE=REQ-PARTICIPANT;PARTSTAT=ACCEPTED;RSVP=TRUE;CN="MIchelle
  Pearse":http://legacy.openaccessweek.org/profile/MIchellePearse
ATTENDEE;ROLE=REQ-PARTICIPANT;PARTSTAT=ACCEPTED;RSVP=TRUE;CN="Richard 
 A. Danner":http://legacy.openaccessweek.org/profile/RichardADanner
END:VEVENT
END:VCALENDAR
