BEGIN:VCALENDAR
PRODID:NingEventWidget-v1
VERSION:2.0
METHOD:PUBLISH
BEGIN:VTIMEZONE
TZID:Pacific/Midway
X-LIC-LOCATION:Pacific/Midway
BEGIN:STANDARD
TZOFFSETFROM:-1100
TZOFFSETTO:-1100
TZNAME:SST
DTSTART:19700101T000000
END:STANDARD
END:VTIMEZONE
BEGIN:VEVENT
UID:5385115:Event:102293
DTSTAMP:20260419T085925Z
SUMMARY:http://accesoabiertoargentina.caicyt.gov.ar/files/JVAAA2013-PR
 OGRAMA.pdf
DESCRIPTION:La Jornada Virtual Acceso Abierto LatinoamÃ©rica 2013 dest
 inada a investigadores, tecnÃ³logos, becarios, autoridades, tomadores 
 de decisiÃ³n, editores cientÃ­ficos, bibliotecarios, docentes, informÃ
 ¡ticos y estudiantes, se realizarÃ¡ el dÃ­a jueves 24 de octubre de 15
 :00 a 20:00 horas GMT en https://sas.elluminate.com/m.jnlp?sid=1110&pa
 ssword=M.9658C2F81DC4158E72B47152D53006.\n\nFor more information visit
  http://legacy.openaccessweek.org/events/http-accesoabiertoargentina-c
 aicyt-gov-ar-files-jvaaa2013
DTSTART;TZID=Pacific/Midway:20131024T000000
DTEND;TZID=Pacific/Midway:20131024T235900
CATEGORIES:online
LOCATION:web
WEBSITE:
URL:
CONTACT:
ORGANIZER:OPS, MINCYT, CAICYT, La Referencia
ATTACH;FMTTYPE="image/jpeg":
ATTENDEE;ROLE=REQ-PARTICIPANT;PARTSTAT=ACCEPTED;RSVP=TRUE;CN="Dominiqu
 e Babini":http://legacy.openaccessweek.org/profile/DominiqueBabini
END:VEVENT
END:VCALENDAR
