BEGIN:VCALENDAR
PRODID:NingEventWidget-v1
VERSION:2.0
METHOD:PUBLISH
BEGIN:VTIMEZONE
TZID:Pacific/Midway
X-LIC-LOCATION:Pacific/Midway
BEGIN:STANDARD
TZOFFSETFROM:-1100
TZOFFSETTO:-1100
TZNAME:SST
DTSTART:19700101T000000
END:STANDARD
END:VTIMEZONE
BEGIN:VEVENT
UID:5385115:Event:292579
DTSTAMP:20260421T043714Z
SUMMARY:\"How We Open Knowledge\" blog series
DESCRIPTION:Throughout OA Week, we’ll be posting a series of intervi
 ews with Scholastica users on how they’re factoring structural equit
 y into OA publication planning and advice for scholarly organizations 
 looking to launch fully-OA journals. Learn more!\n\nFor more informati
 on visit http://legacy.openaccessweek.org/events/how-we-open-knowledge
 -blog-series
DTSTART;TZID=Pacific/Midway:20211025T000000
DTEND;TZID=Pacific/Midway:20211029T235900
CATEGORIES:blog, series
LOCATION:am
WEBSITE:https://blog.scholasticahq.com/post/how-we-open-knowledge-seri
 es/
URL:https://blog.scholasticahq.com/post/how-we-open-knowledge-series/
CONTACT:
ORGANIZER:Scholastica
ATTACH;FMTTYPE="image/jpeg":https://storage.ning.com/topology/rest/1.0
 /file/get/9735925864?profile=original
ATTENDEE;ROLE=REQ-PARTICIPANT;PARTSTAT=ACCEPTED;RSVP=TRUE;CN="Danielle
  Padula":http://legacy.openaccessweek.org/profile/DaniellePadula
END:VEVENT
END:VCALENDAR
