BEGIN:VCALENDAR
PRODID:NingEventWidget-v1
VERSION:2.0
METHOD:PUBLISH
BEGIN:VTIMEZONE
TZID:Pacific/Midway
X-LIC-LOCATION:Pacific/Midway
BEGIN:STANDARD
TZOFFSETFROM:-1100
TZOFFSETTO:-1100
TZNAME:SST
DTSTART:19700101T000000
END:STANDARD
END:VTIMEZONE
BEGIN:VEVENT
UID:5385115:Event:99998
DTSTAMP:20260425T142018Z
SUMMARY:How Copyright Reform Can Benefit Open Access
DESCRIPTION:Copyright helps create incentives for creators to produce 
 works that the public can enjoy. However, if copyright protections are
  too strong, then the result can be reduced access to scholarship and 
 other works, which is the opposite of what copyright is meant to do.\n
 Join Jerry Brito as he talks about how three major reforms to the Copy
 right Act would help foster greater public access to cultural and scho
 larly works and rebalance copyright. This event, hosted by the Univers
 ity Libraries, will be held on Tuesday, October 22, 2013, 3:15-4:15 pm
  at the Arlington Campus in Founders Hall, Multipurpose Room 126. Ligh
 t refreshments will be served.\nJerry Brito is a senior research fello
 w at the Mercatus Center at George Mason University and director of it
 s Technology Policy Program. He also serves as an adjunct professor of
  law at George Mason University. His op-eds have appeared in the Wall 
 Street Journal, the New York Times, and elsewhere. He is the coauthor,
  with Susan Dudley, of Regulation: A Primer and the editor of Copyrigh
 t Unbalanced: From Incentive to Excess. His research focuses on techno
 logy and Internet policy, copyright, and the regulatory process.\n\nFo
 r more information visit http://legacy.openaccessweek.org/events/how-c
 opyright-reform-can-benefit-open-access
DTSTART;TZID=Pacific/Midway:20131022T151500
DTEND;TZID=Pacific/Midway:20131022T161500
CATEGORIES:presentation
LOCATION:George Mason University Arlington Campus
WEBSITE:http://openscholarship.gmu.edu/
URL:http://openscholarship.gmu.edu/
CONTACT:703-993-2427
ORGANIZER;CN="Claudia Holland":http://legacy.openaccessweek.org/profil
 e/ClaudiaHolland
ATTACH;FMTTYPE="image/jpeg":http://storage.ning.com/topology/rest/1.0/
 file/get/3057523799?profile=original
ATTENDEE;ROLE=REQ-PARTICIPANT;PARTSTAT=ACCEPTED;RSVP=TRUE;CN="Claudia 
 Holland":http://legacy.openaccessweek.org/profile/ClaudiaHolland
END:VEVENT
END:VCALENDAR
