BEGIN:VCALENDAR
PRODID:NingEventWidget-v1
VERSION:2.0
METHOD:PUBLISH
BEGIN:VTIMEZONE
TZID:Pacific/Midway
X-LIC-LOCATION:Pacific/Midway
BEGIN:STANDARD
TZOFFSETFROM:-1100
TZOFFSETTO:-1100
TZNAME:SST
DTSTART:19700101T000000
END:STANDARD
END:VTIMEZONE
BEGIN:VEVENT
UID:5385115:Event:290919
DTSTAMP:20260422T154250Z
SUMMARY:HALathon
DESCRIPTION:HALathon : les 25, 26 et 27 octobre 2021, déposez ou fait
 es déposer du texte intégral dans HAL-URCA !\nLa Bibliothèque unive
 rsitaire est à vos côtés pour vous aider à déposer ou pour dépos
 er les textes que vous lui aurez confiés.\nComment participer ?\n#HAL
 athonURCA\n\n\n\n\nFor more information visit http://legacy.openaccess
 week.org/events/halathon
DTSTART;TZID=Pacific/Midway:20211025T180000
DTEND;TZID=Pacific/Midway:20211027T190000
CATEGORIES:open, archive, deposit, session
LOCATION:France
WEBSITE:https://www.univ-reims.fr/minisite_18/accueil-bibliotheques/ha
 lathon,9200,42120.html
URL:https://www.univ-reims.fr/minisite_18/accueil-bibliotheques/halath
 on,9200,42120.html
CONTACT:
ORGANIZER;CN="BU université de Reims":http://legacy.openaccessweek.or
 g/profile/BUuniversitedeReims
ATTACH;FMTTYPE="image/jpeg":https://storage.ning.com/topology/rest/1.0
 /file/get/9674317299?profile=original
ATTENDEE;ROLE=REQ-PARTICIPANT;PARTSTAT=ACCEPTED;RSVP=TRUE;CN="BU unive
 rsité de Reims":http://legacy.openaccessweek.org/profile/BUuniversite
 deReims
END:VEVENT
END:VCALENDAR
