BEGIN:VCALENDAR
PRODID:NingEventWidget-v1
VERSION:2.0
METHOD:PUBLISH
BEGIN:VTIMEZONE
TZID:Pacific/Midway
X-LIC-LOCATION:Pacific/Midway
BEGIN:STANDARD
TZOFFSETFROM:-1100
TZOFFSETTO:-1100
TZNAME:SST
DTSTART:19700101T000000
END:STANDARD
END:VTIMEZONE
BEGIN:VEVENT
UID:5385115:Event:100009
DTSTAMP:20260423T003355Z
SUMMARY:Graduate Student pizza lunch and presentation by Nick Shockey,
  SPARC
DESCRIPTION:Graduate students at the University of Kansas are welcome 
 to come to a pizza lunch with a presentation by join Nick Shockey, Dir
 ector of Student Advocacy for SPARC. \n\nFor more information visit h
 ttp://legacy.openaccessweek.org/events/graduate-student-pizza-lunch-an
 d-presentation-by-nick-shockey
DTSTART;TZID=Pacific/Midway:20131023T113000
DTEND;TZID=Pacific/Midway:20131023T130000
CATEGORIES:"open access week event"
LOCATION:Watson Library, 3rd floor West
WEBSITE:https://openaccess.ku.edu/ku-libraries-announce-open-access-we
 ek-2013-events
URL:https://openaccess.ku.edu/ku-libraries-announce-open-access-week-2
 013-events
CONTACT:
ORGANIZER;CN="Marianne Reed":http://legacy.openaccessweek.org/profile/
 MarianneReed
ATTACH;FMTTYPE="image/jpeg":http://storage.ning.com/topology/rest/1.0/
 file/get/3057523570?profile=original
ATTENDEE;ROLE=REQ-PARTICIPANT;PARTSTAT=ACCEPTED;RSVP=TRUE;CN="Marianne
  Reed":http://legacy.openaccessweek.org/profile/MarianneReed
END:VEVENT
END:VCALENDAR
