BEGIN:VCALENDAR
PRODID:NingEventWidget-v1
VERSION:2.0
METHOD:PUBLISH
BEGIN:VTIMEZONE
TZID:Pacific/Midway
X-LIC-LOCATION:Pacific/Midway
BEGIN:STANDARD
TZOFFSETFROM:-1100
TZOFFSETTO:-1100
TZNAME:SST
DTSTART:19700101T000000
END:STANDARD
END:VTIMEZONE
BEGIN:VEVENT
UID:5385115:Event:50466
DTSTAMP:20260423T164840Z
SUMMARY:\"Gold Open Access\" - publishing with Open Access publishers
DESCRIPTION:Natalia Timiraos (SpringerOpen and BioMed Central) visits 
 SLU to talk about the so called \"gold\" kind of Open Access - publish
 ing research with Open Access publishers.\n\nFor more information visi
 t http://legacy.openaccessweek.org/events/gold-open-access-publishing-
 with-open-access-publishers
DTSTART;TZID=Pacific/Midway:20111027T121500
DTEND;TZID=Pacific/Midway:20111027T131500
CATEGORIES:seminar
LOCATION:Uppsala, Alnarp, Umeå, Skara
WEBSITE:
URL:
CONTACT:
ORGANIZER;CN="Urban Ericsson":http://legacy.openaccessweek.org/profile
 /UrbanEricsson
ATTACH;FMTTYPE="image/jpeg":
ATTENDEE;ROLE=REQ-PARTICIPANT;PARTSTAT=ACCEPTED;RSVP=TRUE;CN="Urban Er
 icsson":http://legacy.openaccessweek.org/profile/UrbanEricsson
END:VEVENT
END:VCALENDAR
