BEGIN:VCALENDAR
PRODID:NingEventWidget-v1
VERSION:2.0
METHOD:PUBLISH
BEGIN:VTIMEZONE
TZID:Pacific/Midway
X-LIC-LOCATION:Pacific/Midway
BEGIN:STANDARD
TZOFFSETFROM:-1100
TZOFFSETTO:-1100
TZNAME:SST
DTSTART:19700101T000000
END:STANDARD
END:VTIMEZONE
BEGIN:VEVENT
UID:5385115:Event:96068
DTSTAMP:20260425T113812Z
SUMMARY:Getting the information you need; the role of Open Access in s
 upporting health and wellbeing on the island of Ireland
DESCRIPTION:Getting the information you need; the role of Open Access 
 in health and wellbeing\nCo-hosted by the Institute of Public Health (
 IPH) and the Regional Library Dr. Steevens Hospital, HSE\n\n\n\n\n\n\n
 \n\n\n\n\n\n\n\n\n\n\n\n\n\n\n\nWho is this seminar for?\nPeople worki
 ng in the health sector who would benefit from Open Access initiatives
  include: health professionals, public health doctors, managers, polic
 y makers, researchers, and information workers from organisations such
  as the Health Service Executive; Department of Health; Voluntary heal
 th sector, Irish health agencies, academic health sector.\n\n\n\n\n\n\
 n\n\n\n\nProgramme\n\n13.30 – 14.00 Registration (tea/coffee)\n\nOpe
 n Access and its benefits\n\n14.00 – 14.05 Welcome and introduction
  - Michael Byrne, Principal Psychology Manager, Health Service Executi
 ve\n14.05 – 14.20 Measuring your impact using Altmetrics: What is O
 A and what are its benefits? - Paul Murphy, Librarian, Royal College o
 f Surgeons in Ireland\n14.20 – 14.35 Researching patient outcomes - 
 the ECT perspective - Erik Kolshus, St. Patrick’s University Hospita
 l / Trinity College Dublin\n14.35 – 14.50 Hospital In-Patient Enquir
 y Scheme (HIPE) Data - a source for OA research (tbc) – Aisling Mull
 igan, Economic & Social Research Institute\n14.50 – 15.00 Comfort Br
 eak\n\nThree key Open Access Initiatives\n\n15.00-15.15 National Open 
 Access Policy and the future - Patricia Clarke, Senior Policy Analyst,
  Health Research Board\n15.15 – 15.30 Lenus and Open Access Policy i
 n the HSE - Aoife Lawton, Systems Librarian, Health Service Executive\
 n15.30 – 15.45 The Health Well and Open Access Policy for public hea
 lth – Kevin Balanda, Associate Director, Institute of Public Health 
 in Ireland\n15.45- 16.00 Summing up and close – Dr. Michael Byrne\n\
 n\n\n\n\n\n\n\n\nPlease register your interest in attending this event
  by Wednesday, 9 October 2013 by emailing the address below\nLouise Br
 adley (louise.bradley@publichealth.ie) The Institute of Public Health 
 in Ireland\n\nFor more information visit http://legacy.openaccessweek.
 org/events/getting-the-information-you-need-the-role-of-open-access-in
DTSTART;TZID=Pacific/Midway:20131022T133000
DTEND;TZID=Pacific/Midway:20131022T160000
CATEGORIES:open, access, seminar
LOCATION:St. Patrick’s University Hospital, Dublin
WEBSITE:https://maps.google.com/maps?q=St.+Patrick%27s+University+Hosp
 ital,+Dublin,+Ireland&hl=en&ll=53.343916,-6.291239&spn=0.007033,0.0165
 44&sll=37.0625,-95.677068&sspn=38.144864,67.763672&oq=st+patrick%27s+u
 niversity+hos&t=m&z=16&iwloc=A
URL:https://maps.google.com/maps?q=St.+Patrick%27s+University+Hospital
 ,+Dublin,+Ireland&hl=en&ll=53.343916,-6.291239&spn=0.007033,0.016544&s
 ll=37.0625,-95.677068&sspn=38.144864,67.763672&oq=st+patrick%27s+unive
 rsity+hos&t=m&z=16&iwloc=A
CONTACT:
ORGANIZER:Health Service Executive Regional Library & Institute of Pub
 lic Health in Ireland
ATTACH;FMTTYPE="image/jpeg":http://storage.ning.com/topology/rest/1.0/
 file/get/3057522173?profile=original
ATTENDEE;ROLE=REQ-PARTICIPANT;PARTSTAT=ACCEPTED;RSVP=TRUE;CN="Louise B
 radley":http://legacy.openaccessweek.org/profile/LouiseBradley
ATTENDEE;ROLE=REQ-PARTICIPANT;PARTSTAT=ACCEPTED;RSVP=TRUE;CN="Aoife La
 wton":http://legacy.openaccessweek.org/profile/AoifeLawton
END:VEVENT
END:VCALENDAR
