BEGIN:VCALENDAR
PRODID:NingEventWidget-v1
VERSION:2.0
METHOD:PUBLISH
BEGIN:VTIMEZONE
TZID:Pacific/Midway
X-LIC-LOCATION:Pacific/Midway
BEGIN:STANDARD
TZOFFSETFROM:-1100
TZOFFSETTO:-1100
TZNAME:SST
DTSTART:19700101T000000
END:STANDARD
END:VTIMEZONE
BEGIN:VEVENT
UID:5385115:Event:79874
DTSTAMP:20260421T010627Z
SUMMARY:Gerald Louw promoting Open Access
DESCRIPTION:Gerald Louw helps to put up some posters around Unversity 
 of the Western Cape campus\n\nFor more information visit http://legacy
 .openaccessweek.org/events/gerald-louw-promoting-open-access
DTSTART;TZID=Pacific/Midway:20121026T180000
DTEND;TZID=Pacific/Midway:20121026T190000
CATEGORIES:putting, up, posters
LOCATION:university of the western cape
WEBSITE:
URL:
CONTACT:
ORGANIZER;CN="Gerald Louw":http://legacy.openaccessweek.org/profile/Ge
 raldLouw
ATTACH;FMTTYPE="image/jpeg":http://storage.ning.com/topology/rest/1.0/
 file/get/3057509089?profile=original
ATTENDEE;ROLE=REQ-PARTICIPANT;PARTSTAT=ACCEPTED;RSVP=TRUE;CN="Gerald L
 ouw":http://legacy.openaccessweek.org/profile/GeraldLouw
END:VEVENT
END:VCALENDAR
