BEGIN:VCALENDAR
PRODID:NingEventWidget-v1
VERSION:2.0
METHOD:PUBLISH
BEGIN:VTIMEZONE
TZID:Pacific/Midway
X-LIC-LOCATION:Pacific/Midway
BEGIN:STANDARD
TZOFFSETFROM:-1100
TZOFFSETTO:-1100
TZNAME:SST
DTSTART:19700101T000000
END:STANDARD
END:VTIMEZONE
BEGIN:VEVENT
UID:5385115:Event:8106
DTSTAMP:20260421T104434Z
SUMMARY:FÓRUM DE DISCUSSÃO
DESCRIPTION:Programação:\n\nPalestra do Prof. Dr. Stuart Shieber\n\n
 * Diretor do Harvard´s Office for Scholarly Communication e líder da
  Iniciativa de Acesso Aberto em sua universidade.\n* Professor de Ciê
 ncia da Computação na Divisão de Engenharia e Ciências Aplicadas n
 a Harvard University.\n\nProjeto USP de Acesso Aberto e Repositório I
 nstitucional:\n\n* Apresentação do estado da arte. Projeto iniciado 
 com três unidades piloto: EACH, ECA e FMVZ.\n\nRelatos de docentes US
 P:\n\n* Experiências com o Acesso Aberto\n\nDebate sobre o Acesso Abe
 rto na USP, buscando elaborar como produto final:\n\n* Carta de apoio 
 à criação de uma política de informação institucional de acesso 
 aberto à produção intelectual da USP.\n\nFor more information visit
  http://legacy.openaccessweek.org/events/forum-de-discussao
DTSTART;TZID=Pacific/Midway:20101016T090000
DTEND;TZID=Pacific/Midway:20101016T170000
CATEGORIES:fórum
LOCATION:Auditório Altino Antunes da FMVZ/USP
WEBSITE:http://www.acessoaberto.usp.br/forum2010/forum2010/
URL:http://www.acessoaberto.usp.br/forum2010/forum2010/
CONTACT:55(11) 3091-1573
ORGANIZER:Sueli Mara S. P. Ferreira
ATTACH;FMTTYPE="image/jpeg":http://storage.ning.com/topology/rest/1.0/
 file/get/3057470559?profile=original
ATTENDEE;ROLE=REQ-PARTICIPANT;PARTSTAT=ACCEPTED;RSVP=TRUE;CN="Rodrigo 
 Moreira Garcia":http://legacy.openaccessweek.org/profile/RodrigoMoreir
 aGarcia
END:VEVENT
END:VCALENDAR
