BEGIN:VCALENDAR
PRODID:NingEventWidget-v1
VERSION:2.0
METHOD:PUBLISH
BEGIN:VTIMEZONE
TZID:Pacific/Midway
X-LIC-LOCATION:Pacific/Midway
BEGIN:STANDARD
TZOFFSETFROM:-1100
TZOFFSETTO:-1100
TZNAME:SST
DTSTART:19700101T000000
END:STANDARD
END:VTIMEZONE
BEGIN:VEVENT
UID:5385115:Event:184399
DTSTAMP:20260423T075917Z
SUMMARY:Formation HAL et idHAL : de l'open access Ã  l'identitÃ© numÃ©
 rique du chercheur
DESCRIPTION:Du 22 octobre au 19 dÃ©cembre 2019, venez optimiser votre 
 utilisation de HAL (hal.archives-ouvertes.fr) et votre identitÃ© numÃ©
 rique durant 5 ateliers dÃ©diÃ©s au signalement et la valorisation de 
 votre production par l'accÃ¨s ouvert !\nUn Ã©vÃ¨nement rÃ©servÃ© prior
 itairement aux enseignants-chercheur et personnels d'appui Ã  la reche
 rche des laboratoires CIHAM (UMR 5648) et LARHRA (UMR 5190).\nDates :\
 n\nMar. 22 oct. 2019 10h\nMer. 13 nov. 2019 10h\nJeu. 21 nov. 2019 14h
 \nJeu. 28 nov. 2019 10h\nJeu. 19 dÃ©c. 2019 14h\n\nContenu des atelier
 s (2 heures):\n\n\nHAL : cadre et enjeux de l'accÃ¨s ouvert pour le ch
 ercheur en SHS et son laboratoire\nbonnes pratiques de saisie de rÃ©fÃ
 ©rences et astuces de paramÃ©trage pour gagner du temps\ncrÃ©ation d'i
 dHAL et identitÃ© numÃ©rique du chercheur\naller plus loin en dÃ©posan
 t le texte intÃ©gral\n\nPrÃ©requis : venir avec un ordinateur portable
 \nInscription auprÃ¨s de alain.marois@univ-lyon2.fr\n\n\n\nFor more in
 formation visit http://legacy.openaccessweek.org/events/formation-hal-
 et-idhal-de-l-open-accesss-l-identit-num-rique-du
DTSTART;TZID=Pacific/Midway:20191022T100000
DTEND;TZID=Pacific/Midway:20191219T160000
CATEGORIES:formations, et, ateliers
LOCATION:France
WEBSITE:https://www.google.com/maps/place/Maison+des+Sciences+de+l&amp
 ;#039;Homme/@45.7469442,4.832935,17z/data=!4m8!1m2!2m1!1sCiham,+msh-ls
 e+lyon!3m4!1s0x47f4ea4856cd8ee9:0x769df56da9a048a6!8m2!3d45.7469442!4d
 4.8351237
URL:https://www.google.com/maps/place/Maison+des+Sciences+de+l&amp;#03
 9;Homme/@45.7469442,4.832935,17z/data=!4m8!1m2!2m1!1sCiham,+msh-lse+ly
 on!3m4!1s0x47f4ea4856cd8ee9:0x769df56da9a048a6!8m2!3d45.7469442!4d4.83
 51237
CONTACT:04 72 72 65 78
ORGANIZER;CN="Alain Marois":http://legacy.openaccessweek.org/profile/a
 marois
ATTACH;FMTTYPE="image/jpeg":
ATTENDEE;ROLE=REQ-PARTICIPANT;PARTSTAT=ACCEPTED;RSVP=TRUE;CN="Alain Ma
 rois":http://legacy.openaccessweek.org/profile/amarois
END:VEVENT
END:VCALENDAR
