BEGIN:VCALENDAR
PRODID:NingEventWidget-v1
VERSION:2.0
METHOD:PUBLISH
BEGIN:VTIMEZONE
TZID:Pacific/Midway
X-LIC-LOCATION:Pacific/Midway
BEGIN:STANDARD
TZOFFSETFROM:-1100
TZOFFSETTO:-1100
TZNAME:SST
DTSTART:19700101T000000
END:STANDARD
END:VTIMEZONE
BEGIN:VEVENT
UID:5385115:Event:100284
DTSTAMP:20260423T135809Z
SUMMARY:: “Forging a New Path : Faculty Buy-In for the Institutional
  Repository and Open Access Publishing”
DESCRIPTION:Check out Dean Carol Hixson’s presentation virtually to 
 the Open Access Un/Conference at San Jose State University on October 
 25, 2013 entitled: “Forging a New Path : Faculty Buy-In for the Inst
 itutional Repository and Open Access Publishing”  The presentation 
 materials will be available in their entirety on the day of the confer
 ence at:  http://dspace.nelson.usf.edu/xmlui/handle/10806/7729\n\nFor
  more information visit http://legacy.openaccessweek.org/events/forgin
 g-a-new-path-faculty-buy-in-for-the-institutional
DTSTART;TZID=Pacific/Midway:20131025T000000
DTEND;TZID=Pacific/Midway:20131025T235900
CATEGORIES:oa, week, event, 2013
LOCATION:San Jose State University
WEBSITE:
URL:
CONTACT:
ORGANIZER;CN="Carol G. Hixson":http://legacy.openaccessweek.org/profil
 e/CarolGHixson
ATTACH;FMTTYPE="image/jpeg":http://storage.ning.com/topology/rest/1.0/
 file/get/3057523716?profile=original
ATTENDEE;ROLE=REQ-PARTICIPANT;PARTSTAT=ACCEPTED;RSVP=TRUE;CN="Carol G.
  Hixson":http://legacy.openaccessweek.org/profile/CarolGHixson
END:VEVENT
END:VCALENDAR
